BEGIN:VCALENDAR
VERSION:2.0
PRODID:-//Route 47 Pub N Grub - ECPv6.15.20//NONSGML v1.0//EN
CALSCALE:GREGORIAN
METHOD:PUBLISH
X-WR-CALNAME:Route 47 Pub N Grub
X-ORIGINAL-URL:https://route47pubngrub.com
X-WR-CALDESC:Events for Route 47 Pub N Grub
REFRESH-INTERVAL;VALUE=DURATION:PT1H
X-Robots-Tag:noindex
X-PUBLISHED-TTL:PT1H
BEGIN:VTIMEZONE
TZID:America/Chicago
BEGIN:DAYLIGHT
TZOFFSETFROM:-0600
TZOFFSETTO:-0500
TZNAME:CDT
DTSTART:20250309T080000
END:DAYLIGHT
BEGIN:STANDARD
TZOFFSETFROM:-0500
TZOFFSETTO:-0600
TZNAME:CST
DTSTART:20251102T070000
END:STANDARD
BEGIN:DAYLIGHT
TZOFFSETFROM:-0600
TZOFFSETTO:-0500
TZNAME:CDT
DTSTART:20260308T080000
END:DAYLIGHT
BEGIN:STANDARD
TZOFFSETFROM:-0500
TZOFFSETTO:-0600
TZNAME:CST
DTSTART:20261101T070000
END:STANDARD
BEGIN:DAYLIGHT
TZOFFSETFROM:-0600
TZOFFSETTO:-0500
TZNAME:CDT
DTSTART:20270314T080000
END:DAYLIGHT
BEGIN:STANDARD
TZOFFSETFROM:-0500
TZOFFSETTO:-0600
TZNAME:CST
DTSTART:20271107T070000
END:STANDARD
END:VTIMEZONE
BEGIN:VEVENT
DTSTART;TZID=America/Chicago:20260213T200000
DTEND;TZID=America/Chicago:20260213T200000
DTSTAMP:20260422T185032
CREATED:20260121T210350Z
LAST-MODIFIED:20260121T210350Z
UID:7920-1771012800-1771012800@route47pubngrub.com
SUMMARY:Uncle Chunk
DESCRIPTION:
URL:https://route47pubngrub.com/calendar/uncle-chunk-2/
LOCATION:Route 47 Pub & Grub\, 7820 University Ave NE\, Fridley\, MN\, 55432\, United States
CATEGORIES:Live Music
END:VEVENT
BEGIN:VEVENT
DTSTART;TZID=America/Chicago:20260212T190000
DTEND;TZID=America/Chicago:20260212T230000
DTSTAMP:20260422T185032
CREATED:20260102T191630Z
LAST-MODIFIED:20260102T191630Z
UID:7868-1770922800-1770937200@route47pubngrub.com
SUMMARY:Mad Mike's Open Mic
DESCRIPTION:
URL:https://route47pubngrub.com/calendar/mad-mikes-open-mic-31/2026-02-12/
LOCATION:Route 47 Pub & Grub\, 7820 University Ave NE\, Fridley\, MN\, 55432\, United States
CATEGORIES:Live Music,Mad Mike's Funhouse
END:VEVENT
BEGIN:VEVENT
DTSTART;TZID=America/Chicago:20260211T190000
DTEND;TZID=America/Chicago:20260211T190000
DTSTAMP:20260422T185032
CREATED:20251205T181632Z
LAST-MODIFIED:20260403T025617Z
UID:7821-1770836400-1770836400@route47pubngrub.com
SUMMARY:Texas Hold 'Em
DESCRIPTION:
URL:https://route47pubngrub.com/calendar/texas-hold-em-52/2026-02-11/
LOCATION:Route 47 Pub & Grub\, 7820 University Ave NE\, Fridley\, MN\, 55432\, United States
CATEGORIES:Poker
END:VEVENT
BEGIN:VEVENT
DTSTART;TZID=America/Chicago:20260210T190000
DTEND;TZID=America/Chicago:20260210T190000
DTSTAMP:20260422T185032
CREATED:20251205T181511Z
LAST-MODIFIED:20260403T023220Z
UID:7807-1770750000-1770750000@route47pubngrub.com
SUMMARY:Texas Hold 'Em
DESCRIPTION:
URL:https://route47pubngrub.com/calendar/texas-hold-em-51/2026-02-10/
LOCATION:Route 47 Pub & Grub\, 7820 University Ave NE\, Fridley\, MN\, 55432\, United States
CATEGORIES:Poker
END:VEVENT
BEGIN:VEVENT
DTSTART;TZID=America/Chicago:20260210T173000
DTEND;TZID=America/Chicago:20260210T173000
DTSTAMP:20260422T185032
CREATED:20251205T181258Z
LAST-MODIFIED:20260203T232234Z
UID:7793-1770744600-1770744600@route47pubngrub.com
SUMMARY:Meat Raffle
DESCRIPTION:
URL:https://route47pubngrub.com/calendar/meat-raffle-43/2026-02-10/
LOCATION:Route 47 Pub & Grub\, 7820 University Ave NE\, Fridley\, MN\, 55432\, United States
CATEGORIES:Meat Raffle
END:VEVENT
BEGIN:VEVENT
DTSTART;TZID=America/Chicago:20260209T181500
DTEND;TZID=America/Chicago:20260209T181500
DTSTAMP:20260422T185032
CREATED:20251205T181051Z
LAST-MODIFIED:20260403T025149Z
UID:7779-1770660900-1770660900@route47pubngrub.com
SUMMARY:Bingo
DESCRIPTION:
URL:https://route47pubngrub.com/calendar/bingo-37/2026-02-09/
LOCATION:Route 47 Pub & Grub\, 7820 University Ave NE\, Fridley\, MN\, 55432\, United States
CATEGORIES:Bingo
END:VEVENT
BEGIN:VEVENT
DTSTART;TZID=America/Chicago:20260208T160000
DTEND;TZID=America/Chicago:20260208T160000
DTSTAMP:20260422T185032
CREATED:20260102T192642Z
LAST-MODIFIED:20260102T192642Z
UID:7877-1770566400-1770566400@route47pubngrub.com
SUMMARY:Trip Bingo
DESCRIPTION:Win a trip for two valued at $1000 to a sunny destination when you play Trip Bingo on Sundays at 4pm! We play every Sunday from January 4 through April 26 – then the last Sunday of every month through August. We pick up the weekly schedule again on September 6 and go through December 27\, 2026. \nThat’s 38 chances to win throughout 2026!
URL:https://route47pubngrub.com/calendar/trip-bingo-10/2026-02-08/
LOCATION:Route 47 Pub & Grub\, 7820 University Ave NE\, Fridley\, MN\, 55432\, United States
CATEGORIES:Trip Bingo
END:VEVENT
BEGIN:VEVENT
DTSTART;TZID=America/Chicago:20260207T200000
DTEND;TZID=America/Chicago:20260207T200000
DTSTAMP:20260422T185032
CREATED:20260121T210303Z
LAST-MODIFIED:20260121T210303Z
UID:7917-1770494400-1770494400@route47pubngrub.com
SUMMARY:Menace
DESCRIPTION:
URL:https://route47pubngrub.com/calendar/menace-9/
LOCATION:Route 47 Pub & Grub\, 7820 University Ave NE\, Fridley\, MN\, 55432\, United States
CATEGORIES:Live Music
END:VEVENT
BEGIN:VEVENT
DTSTART;TZID=America/Chicago:20260206T200000
DTEND;TZID=America/Chicago:20260206T200000
DTSTAMP:20260422T185032
CREATED:20260121T210229Z
LAST-MODIFIED:20260121T210229Z
UID:7915-1770408000-1770408000@route47pubngrub.com
SUMMARY:Rock Brigade
DESCRIPTION:
URL:https://route47pubngrub.com/calendar/rock-brigade/
LOCATION:Route 47 Pub & Grub\, 7820 University Ave NE\, Fridley\, MN\, 55432\, United States
CATEGORIES:Live Music
END:VEVENT
BEGIN:VEVENT
DTSTART;TZID=America/Chicago:20260205T190000
DTEND;TZID=America/Chicago:20260205T230000
DTSTAMP:20260422T185032
CREATED:20260102T191630Z
LAST-MODIFIED:20260102T191630Z
UID:7867-1770318000-1770332400@route47pubngrub.com
SUMMARY:Mad Mike's Open Mic
DESCRIPTION:
URL:https://route47pubngrub.com/calendar/mad-mikes-open-mic-31/2026-02-05/
LOCATION:Route 47 Pub & Grub\, 7820 University Ave NE\, Fridley\, MN\, 55432\, United States
CATEGORIES:Live Music,Mad Mike's Funhouse
END:VEVENT
BEGIN:VEVENT
DTSTART;TZID=America/Chicago:20260204T190000
DTEND;TZID=America/Chicago:20260204T190000
DTSTAMP:20260422T185032
CREATED:20251205T181632Z
LAST-MODIFIED:20260403T025616Z
UID:7820-1770231600-1770231600@route47pubngrub.com
SUMMARY:Texas Hold 'Em
DESCRIPTION:
URL:https://route47pubngrub.com/calendar/texas-hold-em-52/2026-02-04/
LOCATION:Route 47 Pub & Grub\, 7820 University Ave NE\, Fridley\, MN\, 55432\, United States
CATEGORIES:Poker
END:VEVENT
BEGIN:VEVENT
DTSTART;TZID=America/Chicago:20260203T190000
DTEND;TZID=America/Chicago:20260203T190000
DTSTAMP:20260422T185032
CREATED:20251205T181511Z
LAST-MODIFIED:20260403T023218Z
UID:7806-1770145200-1770145200@route47pubngrub.com
SUMMARY:Texas Hold 'Em
DESCRIPTION:
URL:https://route47pubngrub.com/calendar/texas-hold-em-51/2026-02-03/
LOCATION:Route 47 Pub & Grub\, 7820 University Ave NE\, Fridley\, MN\, 55432\, United States
CATEGORIES:Poker
END:VEVENT
BEGIN:VEVENT
DTSTART;TZID=America/Chicago:20260203T173000
DTEND;TZID=America/Chicago:20260203T173000
DTSTAMP:20260422T185032
CREATED:20251205T181258Z
LAST-MODIFIED:20260203T232234Z
UID:7792-1770139800-1770139800@route47pubngrub.com
SUMMARY:Meat Raffle
DESCRIPTION:
URL:https://route47pubngrub.com/calendar/meat-raffle-43/2026-02-03/
LOCATION:Route 47 Pub & Grub\, 7820 University Ave NE\, Fridley\, MN\, 55432\, United States
CATEGORIES:Meat Raffle
END:VEVENT
BEGIN:VEVENT
DTSTART;TZID=America/Chicago:20260202T181500
DTEND;TZID=America/Chicago:20260202T181500
DTSTAMP:20260422T185032
CREATED:20251205T181051Z
LAST-MODIFIED:20260403T025148Z
UID:7778-1770056100-1770056100@route47pubngrub.com
SUMMARY:Bingo
DESCRIPTION:
URL:https://route47pubngrub.com/calendar/bingo-37/2026-02-02/
LOCATION:Route 47 Pub & Grub\, 7820 University Ave NE\, Fridley\, MN\, 55432\, United States
CATEGORIES:Bingo
END:VEVENT
BEGIN:VEVENT
DTSTART;TZID=America/Chicago:20260201T160000
DTEND;TZID=America/Chicago:20260201T160000
DTSTAMP:20260422T185032
CREATED:20260102T192642Z
LAST-MODIFIED:20260102T192642Z
UID:7876-1769961600-1769961600@route47pubngrub.com
SUMMARY:Trip Bingo
DESCRIPTION:Win a trip for two valued at $1000 to a sunny destination when you play Trip Bingo on Sundays at 4pm! We play every Sunday from January 4 through April 26 – then the last Sunday of every month through August. We pick up the weekly schedule again on September 6 and go through December 27\, 2026. \nThat’s 38 chances to win throughout 2026!
URL:https://route47pubngrub.com/calendar/trip-bingo-10/2026-02-01/
LOCATION:Route 47 Pub & Grub\, 7820 University Ave NE\, Fridley\, MN\, 55432\, United States
CATEGORIES:Trip Bingo
END:VEVENT
BEGIN:VEVENT
DTSTART;TZID=America/Chicago:20260131T200000
DTEND;TZID=America/Chicago:20260131T200000
DTSTAMP:20260422T185032
CREATED:20251228T184221Z
LAST-MODIFIED:20251228T184221Z
UID:7852-1769889600-1769889600@route47pubngrub.com
SUMMARY:System 13
DESCRIPTION:
URL:https://route47pubngrub.com/calendar/system-13/
LOCATION:Route 47 Pub & Grub\, 7820 University Ave NE\, Fridley\, MN\, 55432\, United States
CATEGORIES:Live Music
END:VEVENT
BEGIN:VEVENT
DTSTART;TZID=America/Chicago:20260130T200000
DTEND;TZID=America/Chicago:20260130T200000
DTSTAMP:20260422T185032
CREATED:20251228T184132Z
LAST-MODIFIED:20251228T184132Z
UID:7850-1769803200-1769803200@route47pubngrub.com
SUMMARY:Crash Course
DESCRIPTION:
URL:https://route47pubngrub.com/calendar/crash-course-2/
LOCATION:Route 47 Pub & Grub\, 7820 University Ave NE\, Fridley\, MN\, 55432\, United States
CATEGORIES:Live Music
END:VEVENT
BEGIN:VEVENT
DTSTART;TZID=America/Chicago:20260129T190000
DTEND;TZID=America/Chicago:20260129T230000
DTSTAMP:20260422T185032
CREATED:20260102T191630Z
LAST-MODIFIED:20260102T191630Z
UID:7866-1769713200-1769727600@route47pubngrub.com
SUMMARY:Mad Mike's Open Mic
DESCRIPTION:
URL:https://route47pubngrub.com/calendar/mad-mikes-open-mic-31/2026-01-29/
LOCATION:Route 47 Pub & Grub\, 7820 University Ave NE\, Fridley\, MN\, 55432\, United States
CATEGORIES:Live Music,Mad Mike's Funhouse
END:VEVENT
BEGIN:VEVENT
DTSTART;TZID=America/Chicago:20260128T190000
DTEND;TZID=America/Chicago:20260128T190000
DTSTAMP:20260422T185032
CREATED:20251205T181632Z
LAST-MODIFIED:20260403T025615Z
UID:7819-1769626800-1769626800@route47pubngrub.com
SUMMARY:Texas Hold 'Em
DESCRIPTION:
URL:https://route47pubngrub.com/calendar/texas-hold-em-52/2026-01-28/
LOCATION:Route 47 Pub & Grub\, 7820 University Ave NE\, Fridley\, MN\, 55432\, United States
CATEGORIES:Poker
END:VEVENT
BEGIN:VEVENT
DTSTART;TZID=America/Chicago:20260127T190000
DTEND;TZID=America/Chicago:20260127T190000
DTSTAMP:20260422T185032
CREATED:20251205T181511Z
LAST-MODIFIED:20260403T023217Z
UID:7805-1769540400-1769540400@route47pubngrub.com
SUMMARY:Texas Hold 'Em
DESCRIPTION:
URL:https://route47pubngrub.com/calendar/texas-hold-em-51/2026-01-27/
LOCATION:Route 47 Pub & Grub\, 7820 University Ave NE\, Fridley\, MN\, 55432\, United States
CATEGORIES:Poker
END:VEVENT
BEGIN:VEVENT
DTSTART;TZID=America/Chicago:20260127T173000
DTEND;TZID=America/Chicago:20260127T173000
DTSTAMP:20260422T185032
CREATED:20251205T181258Z
LAST-MODIFIED:20260203T232233Z
UID:7791-1769535000-1769535000@route47pubngrub.com
SUMMARY:Meat Raffle
DESCRIPTION:
URL:https://route47pubngrub.com/calendar/meat-raffle-43/2026-01-27/
LOCATION:Route 47 Pub & Grub\, 7820 University Ave NE\, Fridley\, MN\, 55432\, United States
CATEGORIES:Meat Raffle
END:VEVENT
BEGIN:VEVENT
DTSTART;TZID=America/Chicago:20260126T181500
DTEND;TZID=America/Chicago:20260126T181500
DTSTAMP:20260422T185032
CREATED:20251205T181051Z
LAST-MODIFIED:20260403T025147Z
UID:7777-1769451300-1769451300@route47pubngrub.com
SUMMARY:Bingo
DESCRIPTION:
URL:https://route47pubngrub.com/calendar/bingo-37/2026-01-26/
LOCATION:Route 47 Pub & Grub\, 7820 University Ave NE\, Fridley\, MN\, 55432\, United States
CATEGORIES:Bingo
END:VEVENT
BEGIN:VEVENT
DTSTART;TZID=America/Chicago:20260125T160000
DTEND;TZID=America/Chicago:20260125T160000
DTSTAMP:20260422T185032
CREATED:20260102T192642Z
LAST-MODIFIED:20260102T192642Z
UID:7875-1769356800-1769356800@route47pubngrub.com
SUMMARY:Trip Bingo
DESCRIPTION:Win a trip for two valued at $1000 to a sunny destination when you play Trip Bingo on Sundays at 4pm! We play every Sunday from January 4 through April 26 – then the last Sunday of every month through August. We pick up the weekly schedule again on September 6 and go through December 27\, 2026. \nThat’s 38 chances to win throughout 2026!
URL:https://route47pubngrub.com/calendar/trip-bingo-10/2026-01-25/
LOCATION:Route 47 Pub & Grub\, 7820 University Ave NE\, Fridley\, MN\, 55432\, United States
CATEGORIES:Trip Bingo
END:VEVENT
BEGIN:VEVENT
DTSTART;TZID=America/Chicago:20260124T200000
DTEND;TZID=America/Chicago:20260124T200000
DTSTAMP:20260422T185032
CREATED:20251228T170717Z
LAST-MODIFIED:20251228T170717Z
UID:7833-1769284800-1769284800@route47pubngrub.com
SUMMARY:Devil's Rejects & Guerilla Radio
DESCRIPTION:
URL:https://route47pubngrub.com/calendar/devils-rejects-guerilla-radio/
LOCATION:Route 47 Pub & Grub\, 7820 University Ave NE\, Fridley\, MN\, 55432\, United States
CATEGORIES:Live Music
END:VEVENT
BEGIN:VEVENT
DTSTART;TZID=America/Chicago:20260122T190000
DTEND;TZID=America/Chicago:20260122T230000
DTSTAMP:20260422T185032
CREATED:20260102T191630Z
LAST-MODIFIED:20260102T191630Z
UID:7865-1769108400-1769122800@route47pubngrub.com
SUMMARY:Mad Mike's Open Mic
DESCRIPTION:
URL:https://route47pubngrub.com/calendar/mad-mikes-open-mic-31/2026-01-22/
LOCATION:Route 47 Pub & Grub\, 7820 University Ave NE\, Fridley\, MN\, 55432\, United States
CATEGORIES:Live Music,Mad Mike's Funhouse
END:VEVENT
BEGIN:VEVENT
DTSTART;TZID=America/Chicago:20260121T190000
DTEND;TZID=America/Chicago:20260121T190000
DTSTAMP:20260422T185032
CREATED:20251205T181632Z
LAST-MODIFIED:20260403T025614Z
UID:7818-1769022000-1769022000@route47pubngrub.com
SUMMARY:Texas Hold 'Em
DESCRIPTION:
URL:https://route47pubngrub.com/calendar/texas-hold-em-52/2026-01-21/
LOCATION:Route 47 Pub & Grub\, 7820 University Ave NE\, Fridley\, MN\, 55432\, United States
CATEGORIES:Poker
END:VEVENT
BEGIN:VEVENT
DTSTART;TZID=America/Chicago:20260120T190000
DTEND;TZID=America/Chicago:20260120T190000
DTSTAMP:20260422T185032
CREATED:20251205T181511Z
LAST-MODIFIED:20260403T023216Z
UID:7804-1768935600-1768935600@route47pubngrub.com
SUMMARY:Texas Hold 'Em
DESCRIPTION:
URL:https://route47pubngrub.com/calendar/texas-hold-em-51/2026-01-20/
LOCATION:Route 47 Pub & Grub\, 7820 University Ave NE\, Fridley\, MN\, 55432\, United States
CATEGORIES:Poker
END:VEVENT
BEGIN:VEVENT
DTSTART;TZID=America/Chicago:20260120T173000
DTEND;TZID=America/Chicago:20260120T173000
DTSTAMP:20260422T185032
CREATED:20251205T181258Z
LAST-MODIFIED:20260203T232232Z
UID:7790-1768930200-1768930200@route47pubngrub.com
SUMMARY:Meat Raffle
DESCRIPTION:
URL:https://route47pubngrub.com/calendar/meat-raffle-43/2026-01-20/
LOCATION:Route 47 Pub & Grub\, 7820 University Ave NE\, Fridley\, MN\, 55432\, United States
CATEGORIES:Meat Raffle
END:VEVENT
BEGIN:VEVENT
DTSTART;TZID=America/Chicago:20260119T181500
DTEND;TZID=America/Chicago:20260119T181500
DTSTAMP:20260422T185032
CREATED:20251205T181051Z
LAST-MODIFIED:20260403T025146Z
UID:7776-1768846500-1768846500@route47pubngrub.com
SUMMARY:Bingo
DESCRIPTION:
URL:https://route47pubngrub.com/calendar/bingo-37/2026-01-19/
LOCATION:Route 47 Pub & Grub\, 7820 University Ave NE\, Fridley\, MN\, 55432\, United States
CATEGORIES:Bingo
END:VEVENT
BEGIN:VEVENT
DTSTART;TZID=America/Chicago:20260118T160000
DTEND;TZID=America/Chicago:20260118T160000
DTSTAMP:20260422T185032
CREATED:20260102T192642Z
LAST-MODIFIED:20260102T192642Z
UID:7874-1768752000-1768752000@route47pubngrub.com
SUMMARY:Trip Bingo
DESCRIPTION:Win a trip for two valued at $1000 to a sunny destination when you play Trip Bingo on Sundays at 4pm! We play every Sunday from January 4 through April 26 – then the last Sunday of every month through August. We pick up the weekly schedule again on September 6 and go through December 27\, 2026. \nThat’s 38 chances to win throughout 2026!
URL:https://route47pubngrub.com/calendar/trip-bingo-10/2026-01-18/
LOCATION:Route 47 Pub & Grub\, 7820 University Ave NE\, Fridley\, MN\, 55432\, United States
CATEGORIES:Trip Bingo
END:VEVENT
END:VCALENDAR