BEGIN:VCALENDAR
VERSION:2.0
PRODID:-//Route 47 Pub N Grub - ECPv6.15.20//NONSGML v1.0//EN
CALSCALE:GREGORIAN
METHOD:PUBLISH
X-WR-CALNAME:Route 47 Pub N Grub
X-ORIGINAL-URL:https://route47pubngrub.com
X-WR-CALDESC:Events for Route 47 Pub N Grub
REFRESH-INTERVAL;VALUE=DURATION:PT1H
X-Robots-Tag:noindex
X-PUBLISHED-TTL:PT1H
BEGIN:VTIMEZONE
TZID:America/Chicago
BEGIN:DAYLIGHT
TZOFFSETFROM:-0600
TZOFFSETTO:-0500
TZNAME:CDT
DTSTART:20250309T080000
END:DAYLIGHT
BEGIN:STANDARD
TZOFFSETFROM:-0500
TZOFFSETTO:-0600
TZNAME:CST
DTSTART:20251102T070000
END:STANDARD
BEGIN:DAYLIGHT
TZOFFSETFROM:-0600
TZOFFSETTO:-0500
TZNAME:CDT
DTSTART:20260308T080000
END:DAYLIGHT
BEGIN:STANDARD
TZOFFSETFROM:-0500
TZOFFSETTO:-0600
TZNAME:CST
DTSTART:20261101T070000
END:STANDARD
BEGIN:DAYLIGHT
TZOFFSETFROM:-0600
TZOFFSETTO:-0500
TZNAME:CDT
DTSTART:20270314T080000
END:DAYLIGHT
BEGIN:STANDARD
TZOFFSETFROM:-0500
TZOFFSETTO:-0600
TZNAME:CST
DTSTART:20271107T070000
END:STANDARD
END:VTIMEZONE
BEGIN:VEVENT
DTSTART;TZID=America/Chicago:20260720T181500
DTEND;TZID=America/Chicago:20260720T181500
DTSTAMP:20260422T142140
CREATED:20251205T181051Z
LAST-MODIFIED:20260403T025226Z
UID:8217-1784571300-1784571300@route47pubngrub.com
SUMMARY:Bingo
DESCRIPTION:
URL:https://route47pubngrub.com/calendar/bingo-37/2026-07-20/
LOCATION:Route 47 Pub & Grub\, 7820 University Ave NE\, Fridley\, MN\, 55432\, United States
CATEGORIES:Bingo
END:VEVENT
BEGIN:VEVENT
DTSTART;TZID=America/Chicago:20260721T190000
DTEND;TZID=America/Chicago:20260721T190000
DTSTAMP:20260422T142140
CREATED:20251205T181511Z
LAST-MODIFIED:20251205T181511Z
UID:8264-1784660400-1784660400@route47pubngrub.com
SUMMARY:Texas Hold 'Em
DESCRIPTION:
URL:https://route47pubngrub.com/calendar/texas-hold-em-51/2026-07-21/
LOCATION:Route 47 Pub & Grub\, 7820 University Ave NE\, Fridley\, MN\, 55432\, United States
CATEGORIES:Poker
END:VEVENT
BEGIN:VEVENT
DTSTART;TZID=America/Chicago:20260722T190000
DTEND;TZID=America/Chicago:20260722T190000
DTSTAMP:20260422T142140
CREATED:20251205T181632Z
LAST-MODIFIED:20251205T181632Z
UID:8274-1784746800-1784746800@route47pubngrub.com
SUMMARY:Texas Hold 'Em
DESCRIPTION:
URL:https://route47pubngrub.com/calendar/texas-hold-em-52/2026-07-22/
LOCATION:Route 47 Pub & Grub\, 7820 University Ave NE\, Fridley\, MN\, 55432\, United States
CATEGORIES:Poker
END:VEVENT
BEGIN:VEVENT
DTSTART;TZID=America/Chicago:20260727T181500
DTEND;TZID=America/Chicago:20260727T181500
DTSTAMP:20260422T142140
CREATED:20251205T181051Z
LAST-MODIFIED:20260403T025228Z
UID:8218-1785176100-1785176100@route47pubngrub.com
SUMMARY:Bingo
DESCRIPTION:
URL:https://route47pubngrub.com/calendar/bingo-37/2026-07-27/
LOCATION:Route 47 Pub & Grub\, 7820 University Ave NE\, Fridley\, MN\, 55432\, United States
CATEGORIES:Bingo
END:VEVENT
BEGIN:VEVENT
DTSTART;TZID=America/Chicago:20260728T190000
DTEND;TZID=America/Chicago:20260728T190000
DTSTAMP:20260422T142140
CREATED:20251205T181511Z
LAST-MODIFIED:20251205T181511Z
UID:8265-1785265200-1785265200@route47pubngrub.com
SUMMARY:Texas Hold 'Em
DESCRIPTION:
URL:https://route47pubngrub.com/calendar/texas-hold-em-51/2026-07-28/
LOCATION:Route 47 Pub & Grub\, 7820 University Ave NE\, Fridley\, MN\, 55432\, United States
CATEGORIES:Poker
END:VEVENT
BEGIN:VEVENT
DTSTART;TZID=America/Chicago:20260729T190000
DTEND;TZID=America/Chicago:20260729T190000
DTSTAMP:20260422T142140
CREATED:20251205T181632Z
LAST-MODIFIED:20251205T181632Z
UID:8275-1785351600-1785351600@route47pubngrub.com
SUMMARY:Texas Hold 'Em
DESCRIPTION:
URL:https://route47pubngrub.com/calendar/texas-hold-em-52/2026-07-29/
LOCATION:Route 47 Pub & Grub\, 7820 University Ave NE\, Fridley\, MN\, 55432\, United States
CATEGORIES:Poker
END:VEVENT
BEGIN:VEVENT
DTSTART;TZID=America/Chicago:20260803T181500
DTEND;TZID=America/Chicago:20260803T181500
DTSTAMP:20260422T142140
CREATED:20251205T181051Z
LAST-MODIFIED:20260403T025229Z
UID:8219-1785780900-1785780900@route47pubngrub.com
SUMMARY:Bingo
DESCRIPTION:
URL:https://route47pubngrub.com/calendar/bingo-37/2026-08-03/
LOCATION:Route 47 Pub & Grub\, 7820 University Ave NE\, Fridley\, MN\, 55432\, United States
CATEGORIES:Bingo
END:VEVENT
BEGIN:VEVENT
DTSTART;TZID=America/Chicago:20260804T190000
DTEND;TZID=America/Chicago:20260804T190000
DTSTAMP:20260422T142140
CREATED:20251205T181511Z
LAST-MODIFIED:20251205T181511Z
UID:8266-1785870000-1785870000@route47pubngrub.com
SUMMARY:Texas Hold 'Em
DESCRIPTION:
URL:https://route47pubngrub.com/calendar/texas-hold-em-51/2026-08-04/
LOCATION:Route 47 Pub & Grub\, 7820 University Ave NE\, Fridley\, MN\, 55432\, United States
CATEGORIES:Poker
END:VEVENT
BEGIN:VEVENT
DTSTART;TZID=America/Chicago:20260805T190000
DTEND;TZID=America/Chicago:20260805T190000
DTSTAMP:20260422T142140
CREATED:20251205T181632Z
LAST-MODIFIED:20251205T181632Z
UID:8276-1785956400-1785956400@route47pubngrub.com
SUMMARY:Texas Hold 'Em
DESCRIPTION:
URL:https://route47pubngrub.com/calendar/texas-hold-em-52/2026-08-05/
LOCATION:Route 47 Pub & Grub\, 7820 University Ave NE\, Fridley\, MN\, 55432\, United States
CATEGORIES:Poker
END:VEVENT
BEGIN:VEVENT
DTSTART;TZID=America/Chicago:20260810T181500
DTEND;TZID=America/Chicago:20260810T181500
DTSTAMP:20260422T142140
CREATED:20251205T181051Z
LAST-MODIFIED:20260403T025232Z
UID:8221-1786385700-1786385700@route47pubngrub.com
SUMMARY:Bingo
DESCRIPTION:
URL:https://route47pubngrub.com/calendar/bingo-37/2026-08-10/
LOCATION:Route 47 Pub & Grub\, 7820 University Ave NE\, Fridley\, MN\, 55432\, United States
CATEGORIES:Bingo
END:VEVENT
BEGIN:VEVENT
DTSTART;TZID=America/Chicago:20260812T190000
DTEND;TZID=America/Chicago:20260812T190000
DTSTAMP:20260422T142140
CREATED:20251205T181632Z
LAST-MODIFIED:20251205T181632Z
UID:8277-1786561200-1786561200@route47pubngrub.com
SUMMARY:Texas Hold 'Em
DESCRIPTION:
URL:https://route47pubngrub.com/calendar/texas-hold-em-52/2026-08-12/
LOCATION:Route 47 Pub & Grub\, 7820 University Ave NE\, Fridley\, MN\, 55432\, United States
CATEGORIES:Poker
END:VEVENT
BEGIN:VEVENT
DTSTART;TZID=America/Chicago:20260817T181500
DTEND;TZID=America/Chicago:20260817T181500
DTSTAMP:20260422T142140
CREATED:20251205T181051Z
LAST-MODIFIED:20260403T025233Z
UID:8222-1786990500-1786990500@route47pubngrub.com
SUMMARY:Bingo
DESCRIPTION:
URL:https://route47pubngrub.com/calendar/bingo-37/2026-08-17/
LOCATION:Route 47 Pub & Grub\, 7820 University Ave NE\, Fridley\, MN\, 55432\, United States
CATEGORIES:Bingo
END:VEVENT
BEGIN:VEVENT
DTSTART;TZID=America/Chicago:20260819T190000
DTEND;TZID=America/Chicago:20260819T190000
DTSTAMP:20260422T142140
CREATED:20251205T181632Z
LAST-MODIFIED:20251205T181632Z
UID:8278-1787166000-1787166000@route47pubngrub.com
SUMMARY:Texas Hold 'Em
DESCRIPTION:
URL:https://route47pubngrub.com/calendar/texas-hold-em-52/2026-08-19/
LOCATION:Route 47 Pub & Grub\, 7820 University Ave NE\, Fridley\, MN\, 55432\, United States
CATEGORIES:Poker
END:VEVENT
BEGIN:VEVENT
DTSTART;TZID=America/Chicago:20260824T181500
DTEND;TZID=America/Chicago:20260824T181500
DTSTAMP:20260422T142140
CREATED:20251205T181051Z
LAST-MODIFIED:20260403T025234Z
UID:8223-1787595300-1787595300@route47pubngrub.com
SUMMARY:Bingo
DESCRIPTION:
URL:https://route47pubngrub.com/calendar/bingo-37/2026-08-24/
LOCATION:Route 47 Pub & Grub\, 7820 University Ave NE\, Fridley\, MN\, 55432\, United States
CATEGORIES:Bingo
END:VEVENT
BEGIN:VEVENT
DTSTART;TZID=America/Chicago:20260826T190000
DTEND;TZID=America/Chicago:20260826T190000
DTSTAMP:20260422T142140
CREATED:20251205T181632Z
LAST-MODIFIED:20251205T181632Z
UID:8279-1787770800-1787770800@route47pubngrub.com
SUMMARY:Texas Hold 'Em
DESCRIPTION:
URL:https://route47pubngrub.com/calendar/texas-hold-em-52/2026-08-26/
LOCATION:Route 47 Pub & Grub\, 7820 University Ave NE\, Fridley\, MN\, 55432\, United States
CATEGORIES:Poker
END:VEVENT
BEGIN:VEVENT
DTSTART;TZID=America/Chicago:20260917T193000
DTEND;TZID=America/Chicago:20260917T193000
DTSTAMP:20260422T142140
CREATED:20260403T024121Z
LAST-MODIFIED:20260403T024121Z
UID:8202-1789673400-1789673400@route47pubngrub.com
SUMMARY:Steeling Dan
DESCRIPTION:
URL:https://route47pubngrub.com/calendar/steeling-dan-12/2026-09-17/
LOCATION:Route 47 Pub & Grub\, 7820 University Ave NE\, Fridley\, MN\, 55432\, United States
CATEGORIES:Live Music
END:VEVENT
BEGIN:VEVENT
DTSTART;TZID=America/Chicago:20261119T193000
DTEND;TZID=America/Chicago:20261119T193000
DTSTAMP:20260422T142140
CREATED:20260403T024121Z
LAST-MODIFIED:20260403T024121Z
UID:8203-1795116600-1795116600@route47pubngrub.com
SUMMARY:Steeling Dan
DESCRIPTION:
URL:https://route47pubngrub.com/calendar/steeling-dan-12/2026-11-19/
LOCATION:Route 47 Pub & Grub\, 7820 University Ave NE\, Fridley\, MN\, 55432\, United States
CATEGORIES:Live Music
END:VEVENT
END:VCALENDAR