BEGIN:VCALENDAR
VERSION:2.0
PRODID:-//Route 47 Pub N Grub - ECPv6.15.20//NONSGML v1.0//EN
CALSCALE:GREGORIAN
METHOD:PUBLISH
X-WR-CALNAME:Route 47 Pub N Grub
X-ORIGINAL-URL:https://route47pubngrub.com
X-WR-CALDESC:Events for Route 47 Pub N Grub
REFRESH-INTERVAL;VALUE=DURATION:PT1H
X-Robots-Tag:noindex
X-PUBLISHED-TTL:PT1H
BEGIN:VTIMEZONE
TZID:America/Chicago
BEGIN:DAYLIGHT
TZOFFSETFROM:-0600
TZOFFSETTO:-0500
TZNAME:CDT
DTSTART:20250309T080000
END:DAYLIGHT
BEGIN:STANDARD
TZOFFSETFROM:-0500
TZOFFSETTO:-0600
TZNAME:CST
DTSTART:20251102T070000
END:STANDARD
BEGIN:DAYLIGHT
TZOFFSETFROM:-0600
TZOFFSETTO:-0500
TZNAME:CDT
DTSTART:20260308T080000
END:DAYLIGHT
BEGIN:STANDARD
TZOFFSETFROM:-0500
TZOFFSETTO:-0600
TZNAME:CST
DTSTART:20261101T070000
END:STANDARD
BEGIN:DAYLIGHT
TZOFFSETFROM:-0600
TZOFFSETTO:-0500
TZNAME:CDT
DTSTART:20270314T080000
END:DAYLIGHT
BEGIN:STANDARD
TZOFFSETFROM:-0500
TZOFFSETTO:-0600
TZNAME:CST
DTSTART:20271107T070000
END:STANDARD
END:VTIMEZONE
BEGIN:VEVENT
DTSTART;TZID=America/Chicago:20260309T181500
DTEND;TZID=America/Chicago:20260309T181500
DTSTAMP:20260422T155636
CREATED:20251205T181051Z
LAST-MODIFIED:20260403T025155Z
UID:7783-1773080100-1773080100@route47pubngrub.com
SUMMARY:Bingo
DESCRIPTION:
URL:https://route47pubngrub.com/calendar/bingo-37/2026-03-09/
LOCATION:Route 47 Pub & Grub\, 7820 University Ave NE\, Fridley\, MN\, 55432\, United States
CATEGORIES:Bingo
END:VEVENT
BEGIN:VEVENT
DTSTART;TZID=America/Chicago:20260308T160000
DTEND;TZID=America/Chicago:20260308T160000
DTSTAMP:20260422T155636
CREATED:20260102T192642Z
LAST-MODIFIED:20260102T192642Z
UID:7881-1772985600-1772985600@route47pubngrub.com
SUMMARY:Trip Bingo
DESCRIPTION:Win a trip for two valued at $1000 to a sunny destination when you play Trip Bingo on Sundays at 4pm! We play every Sunday from January 4 through April 26 – then the last Sunday of every month through August. We pick up the weekly schedule again on September 6 and go through December 27\, 2026. \nThat’s 38 chances to win throughout 2026!
URL:https://route47pubngrub.com/calendar/trip-bingo-10/2026-03-08/
LOCATION:Route 47 Pub & Grub\, 7820 University Ave NE\, Fridley\, MN\, 55432\, United States
CATEGORIES:Trip Bingo
END:VEVENT
BEGIN:VEVENT
DTSTART;TZID=America/Chicago:20260307T200000
DTEND;TZID=America/Chicago:20260307T200000
DTSTAMP:20260422T155636
CREATED:20260203T175517Z
LAST-MODIFIED:20260203T175517Z
UID:7953-1772913600-1772913600@route47pubngrub.com
SUMMARY:Rebel Queens
DESCRIPTION:
URL:https://route47pubngrub.com/calendar/rebel-queens-2/
LOCATION:Route 47 Pub & Grub\, 7820 University Ave NE\, Fridley\, MN\, 55432\, United States
CATEGORIES:Live Music
END:VEVENT
BEGIN:VEVENT
DTSTART;TZID=America/Chicago:20260306T200000
DTEND;TZID=America/Chicago:20260306T200000
DTSTAMP:20260422T155636
CREATED:20260203T175427Z
LAST-MODIFIED:20260203T175427Z
UID:7951-1772827200-1772827200@route47pubngrub.com
SUMMARY:Stone & Echo
DESCRIPTION:
URL:https://route47pubngrub.com/calendar/stone-echo/
LOCATION:Route 47 Pub & Grub\, 7820 University Ave NE\, Fridley\, MN\, 55432\, United States
CATEGORIES:Live Music
END:VEVENT
BEGIN:VEVENT
DTSTART;TZID=America/Chicago:20260306T173000
DTEND;TZID=America/Chicago:20260306T173000
DTSTAMP:20260422T155636
CREATED:20260316T160503Z
LAST-MODIFIED:20260316T160503Z
UID:8071-1772818200-1772818200@route47pubngrub.com
SUMMARY:Meat Raffle
DESCRIPTION:
URL:https://route47pubngrub.com/calendar/meat-raffle-44/2026-03-06/
LOCATION:Route 47 Pub & Grub\, 7820 University Ave NE\, Fridley\, MN\, 55432\, United States
CATEGORIES:Meat Raffle
END:VEVENT
BEGIN:VEVENT
DTSTART;TZID=America/Chicago:20260304T190000
DTEND;TZID=America/Chicago:20260304T190000
DTSTAMP:20260422T155636
CREATED:20251205T181632Z
LAST-MODIFIED:20260403T025623Z
UID:7824-1772650800-1772650800@route47pubngrub.com
SUMMARY:Texas Hold 'Em
DESCRIPTION:
URL:https://route47pubngrub.com/calendar/texas-hold-em-52/2026-03-04/
LOCATION:Route 47 Pub & Grub\, 7820 University Ave NE\, Fridley\, MN\, 55432\, United States
CATEGORIES:Poker
END:VEVENT
BEGIN:VEVENT
DTSTART;TZID=America/Chicago:20260303T190000
DTEND;TZID=America/Chicago:20260303T190000
DTSTAMP:20260422T155636
CREATED:20251205T181511Z
LAST-MODIFIED:20260403T023229Z
UID:7810-1772564400-1772564400@route47pubngrub.com
SUMMARY:Texas Hold 'Em
DESCRIPTION:
URL:https://route47pubngrub.com/calendar/texas-hold-em-51/2026-03-03/
LOCATION:Route 47 Pub & Grub\, 7820 University Ave NE\, Fridley\, MN\, 55432\, United States
CATEGORIES:Poker
END:VEVENT
BEGIN:VEVENT
DTSTART;TZID=America/Chicago:20260303T173000
DTEND;TZID=America/Chicago:20260303T173000
DTSTAMP:20260422T155636
CREATED:20251205T181258Z
LAST-MODIFIED:20251205T181258Z
UID:7796-1772559000-1772559000@route47pubngrub.com
SUMMARY:Meat Raffle
DESCRIPTION:
URL:https://route47pubngrub.com/calendar/meat-raffle-43/2026-03-03/
LOCATION:Route 47 Pub & Grub\, 7820 University Ave NE\, Fridley\, MN\, 55432\, United States
CATEGORIES:Meat Raffle
END:VEVENT
BEGIN:VEVENT
DTSTART;TZID=America/Chicago:20260302T181500
DTEND;TZID=America/Chicago:20260302T181500
DTSTAMP:20260422T155636
CREATED:20251205T181051Z
LAST-MODIFIED:20260403T025153Z
UID:7782-1772475300-1772475300@route47pubngrub.com
SUMMARY:Bingo
DESCRIPTION:
URL:https://route47pubngrub.com/calendar/bingo-37/2026-03-02/
LOCATION:Route 47 Pub & Grub\, 7820 University Ave NE\, Fridley\, MN\, 55432\, United States
CATEGORIES:Bingo
END:VEVENT
BEGIN:VEVENT
DTSTART;TZID=America/Chicago:20260301T160000
DTEND;TZID=America/Chicago:20260301T160000
DTSTAMP:20260422T155636
CREATED:20260102T192642Z
LAST-MODIFIED:20260102T192642Z
UID:7880-1772380800-1772380800@route47pubngrub.com
SUMMARY:Trip Bingo
DESCRIPTION:Win a trip for two valued at $1000 to a sunny destination when you play Trip Bingo on Sundays at 4pm! We play every Sunday from January 4 through April 26 – then the last Sunday of every month through August. We pick up the weekly schedule again on September 6 and go through December 27\, 2026. \nThat’s 38 chances to win throughout 2026!
URL:https://route47pubngrub.com/calendar/trip-bingo-10/2026-03-01/
LOCATION:Route 47 Pub & Grub\, 7820 University Ave NE\, Fridley\, MN\, 55432\, United States
CATEGORIES:Trip Bingo
END:VEVENT
BEGIN:VEVENT
DTSTART;TZID=America/Chicago:20260228T200000
DTEND;TZID=America/Chicago:20260228T200000
DTSTAMP:20260422T155636
CREATED:20260121T210740Z
LAST-MODIFIED:20260121T210740Z
UID:7930-1772308800-1772308800@route47pubngrub.com
SUMMARY:Cursed by Lightening
DESCRIPTION:
URL:https://route47pubngrub.com/calendar/cursed-by-lightening/
LOCATION:Route 47 Pub & Grub\, 7820 University Ave NE\, Fridley\, MN\, 55432\, United States
CATEGORIES:Live Music
END:VEVENT
BEGIN:VEVENT
DTSTART;TZID=America/Chicago:20260228T140000
DTEND;TZID=America/Chicago:20260228T170000
DTSTAMP:20260422T155636
CREATED:20260228T180452Z
LAST-MODIFIED:20260228T180559Z
UID:8051-1772287200-1772298000@route47pubngrub.com
SUMMARY:Rock Camp
DESCRIPTION:
URL:https://route47pubngrub.com/calendar/rock-camp-14/
LOCATION:Route 47 Pub & Grub\, 7820 University Ave NE\, Fridley\, MN\, 55432\, United States
CATEGORIES:Rock Camp
END:VEVENT
BEGIN:VEVENT
DTSTART;TZID=America/Chicago:20260227T200000
DTEND;TZID=America/Chicago:20260227T200000
DTSTAMP:20260422T155636
CREATED:20260121T210640Z
LAST-MODIFIED:20260121T210640Z
UID:7928-1772222400-1772222400@route47pubngrub.com
SUMMARY:Good for Gary
DESCRIPTION:
URL:https://route47pubngrub.com/calendar/good-for-gary-6/
LOCATION:Route 47 Pub & Grub\, 7820 University Ave NE\, Fridley\, MN\, 55432\, United States
CATEGORIES:Live Music
END:VEVENT
BEGIN:VEVENT
DTSTART;TZID=America/Chicago:20260226T190000
DTEND;TZID=America/Chicago:20260226T230000
DTSTAMP:20260422T155636
CREATED:20260121T210917Z
LAST-MODIFIED:20260403T023702Z
UID:7932-1772132400-1772146800@route47pubngrub.com
SUMMARY:Mad Mike's Open Mic
DESCRIPTION:
URL:https://route47pubngrub.com/calendar/mad-mikes-open-mic-32/2026-02-26/
LOCATION:Route 47 Pub & Grub\, 7820 University Ave NE\, Fridley\, MN\, 55432\, United States
CATEGORIES:Live Music,Mad Mike's Funhouse
END:VEVENT
BEGIN:VEVENT
DTSTART;TZID=America/Chicago:20260225T190000
DTEND;TZID=America/Chicago:20260225T190000
DTSTAMP:20260422T155636
CREATED:20251205T181632Z
LAST-MODIFIED:20260403T025620Z
UID:7823-1772046000-1772046000@route47pubngrub.com
SUMMARY:Texas Hold 'Em
DESCRIPTION:
URL:https://route47pubngrub.com/calendar/texas-hold-em-52/2026-02-25/
LOCATION:Route 47 Pub & Grub\, 7820 University Ave NE\, Fridley\, MN\, 55432\, United States
CATEGORIES:Poker
END:VEVENT
BEGIN:VEVENT
DTSTART;TZID=America/Chicago:20260224T190000
DTEND;TZID=America/Chicago:20260224T190000
DTSTAMP:20260422T155636
CREATED:20251205T181511Z
LAST-MODIFIED:20260403T023227Z
UID:7809-1771959600-1771959600@route47pubngrub.com
SUMMARY:Texas Hold 'Em
DESCRIPTION:
URL:https://route47pubngrub.com/calendar/texas-hold-em-51/2026-02-24/
LOCATION:Route 47 Pub & Grub\, 7820 University Ave NE\, Fridley\, MN\, 55432\, United States
CATEGORIES:Poker
END:VEVENT
BEGIN:VEVENT
DTSTART;TZID=America/Chicago:20260224T173000
DTEND;TZID=America/Chicago:20260224T173000
DTSTAMP:20260422T155636
CREATED:20251205T181258Z
LAST-MODIFIED:20251205T181258Z
UID:7795-1771954200-1771954200@route47pubngrub.com
SUMMARY:Meat Raffle
DESCRIPTION:
URL:https://route47pubngrub.com/calendar/meat-raffle-43/2026-02-24/
LOCATION:Route 47 Pub & Grub\, 7820 University Ave NE\, Fridley\, MN\, 55432\, United States
CATEGORIES:Meat Raffle
END:VEVENT
BEGIN:VEVENT
DTSTART;TZID=America/Chicago:20260223T181500
DTEND;TZID=America/Chicago:20260223T181500
DTSTAMP:20260422T155636
CREATED:20251205T181051Z
LAST-MODIFIED:20260403T025152Z
UID:7781-1771870500-1771870500@route47pubngrub.com
SUMMARY:Bingo
DESCRIPTION:
URL:https://route47pubngrub.com/calendar/bingo-37/2026-02-23/
LOCATION:Route 47 Pub & Grub\, 7820 University Ave NE\, Fridley\, MN\, 55432\, United States
CATEGORIES:Bingo
END:VEVENT
BEGIN:VEVENT
DTSTART;TZID=America/Chicago:20260222T160000
DTEND;TZID=America/Chicago:20260222T160000
DTSTAMP:20260422T155636
CREATED:20260102T192642Z
LAST-MODIFIED:20260102T192642Z
UID:7879-1771776000-1771776000@route47pubngrub.com
SUMMARY:Trip Bingo
DESCRIPTION:Win a trip for two valued at $1000 to a sunny destination when you play Trip Bingo on Sundays at 4pm! We play every Sunday from January 4 through April 26 – then the last Sunday of every month through August. We pick up the weekly schedule again on September 6 and go through December 27\, 2026. \nThat’s 38 chances to win throughout 2026!
URL:https://route47pubngrub.com/calendar/trip-bingo-10/2026-02-22/
LOCATION:Route 47 Pub & Grub\, 7820 University Ave NE\, Fridley\, MN\, 55432\, United States
CATEGORIES:Trip Bingo
END:VEVENT
BEGIN:VEVENT
DTSTART;TZID=America/Chicago:20260221T200000
DTEND;TZID=America/Chicago:20260221T200000
DTSTAMP:20260422T155636
CREATED:20260121T210547Z
LAST-MODIFIED:20260121T210547Z
UID:7926-1771704000-1771704000@route47pubngrub.com
SUMMARY:Arena
DESCRIPTION:
URL:https://route47pubngrub.com/calendar/arena-6/
LOCATION:Route 47 Pub & Grub\, 7820 University Ave NE\, Fridley\, MN\, 55432\, United States
CATEGORIES:Live Music
END:VEVENT
BEGIN:VEVENT
DTSTART;TZID=America/Chicago:20260220T200000
DTEND;TZID=America/Chicago:20260220T200000
DTSTAMP:20260422T155637
CREATED:20260121T210505Z
LAST-MODIFIED:20260121T210505Z
UID:7924-1771617600-1771617600@route47pubngrub.com
SUMMARY:Legacy of the Loud
DESCRIPTION:
URL:https://route47pubngrub.com/calendar/legacy-of-the-loud-7/
LOCATION:Route 47 Pub & Grub\, 7820 University Ave NE\, Fridley\, MN\, 55432\, United States
CATEGORIES:Live Music
END:VEVENT
BEGIN:VEVENT
DTSTART;TZID=America/Chicago:20260220T193000
DTEND;TZID=America/Chicago:20260220T193000
DTSTAMP:20260422T155637
CREATED:20260203T232717Z
LAST-MODIFIED:20260203T232717Z
UID:8043-1771615800-1771615800@route47pubngrub.com
SUMMARY:Chamber Breakfast
DESCRIPTION:
URL:https://route47pubngrub.com/calendar/chamber-breakfast-11/
LOCATION:Route 47 Pub & Grub\, 7820 University Ave NE\, Fridley\, MN\, 55432\, United States
CATEGORIES:Chamber Event
END:VEVENT
BEGIN:VEVENT
DTSTART;TZID=America/Chicago:20260219T193000
DTEND;TZID=America/Chicago:20260219T193000
DTSTAMP:20260422T155637
CREATED:20260102T191835Z
LAST-MODIFIED:20260102T191835Z
UID:7870-1771529400-1771529400@route47pubngrub.com
SUMMARY:The Supertramps
DESCRIPTION:
URL:https://route47pubngrub.com/calendar/the-supertramps-2/
LOCATION:Route 47 Pub & Grub\, 7820 University Ave NE\, Fridley\, MN\, 55432\, United States
CATEGORIES:Live Music
END:VEVENT
BEGIN:VEVENT
DTSTART;TZID=America/Chicago:20260218T190000
DTEND;TZID=America/Chicago:20260218T190000
DTSTAMP:20260422T155637
CREATED:20251205T181632Z
LAST-MODIFIED:20260403T025619Z
UID:7822-1771441200-1771441200@route47pubngrub.com
SUMMARY:Texas Hold 'Em
DESCRIPTION:
URL:https://route47pubngrub.com/calendar/texas-hold-em-52/2026-02-18/
LOCATION:Route 47 Pub & Grub\, 7820 University Ave NE\, Fridley\, MN\, 55432\, United States
CATEGORIES:Poker
END:VEVENT
BEGIN:VEVENT
DTSTART;TZID=America/Chicago:20260217T190000
DTEND;TZID=America/Chicago:20260217T190000
DTSTAMP:20260422T155637
CREATED:20251205T181511Z
LAST-MODIFIED:20260403T023221Z
UID:7808-1771354800-1771354800@route47pubngrub.com
SUMMARY:Texas Hold 'Em
DESCRIPTION:
URL:https://route47pubngrub.com/calendar/texas-hold-em-51/2026-02-17/
LOCATION:Route 47 Pub & Grub\, 7820 University Ave NE\, Fridley\, MN\, 55432\, United States
CATEGORIES:Poker
END:VEVENT
BEGIN:VEVENT
DTSTART;TZID=America/Chicago:20260217T173000
DTEND;TZID=America/Chicago:20260217T173000
DTSTAMP:20260422T155637
CREATED:20251205T181258Z
LAST-MODIFIED:20260203T232235Z
UID:7794-1771349400-1771349400@route47pubngrub.com
SUMMARY:Meat Raffle
DESCRIPTION:
URL:https://route47pubngrub.com/calendar/meat-raffle-43/2026-02-17/
LOCATION:Route 47 Pub & Grub\, 7820 University Ave NE\, Fridley\, MN\, 55432\, United States
CATEGORIES:Meat Raffle
END:VEVENT
BEGIN:VEVENT
DTSTART;TZID=America/Chicago:20260216T181500
DTEND;TZID=America/Chicago:20260216T181500
DTSTAMP:20260422T155637
CREATED:20251205T181051Z
LAST-MODIFIED:20260403T025151Z
UID:7780-1771265700-1771265700@route47pubngrub.com
SUMMARY:Bingo
DESCRIPTION:
URL:https://route47pubngrub.com/calendar/bingo-37/2026-02-16/
LOCATION:Route 47 Pub & Grub\, 7820 University Ave NE\, Fridley\, MN\, 55432\, United States
CATEGORIES:Bingo
END:VEVENT
BEGIN:VEVENT
DTSTART;TZID=America/Chicago:20260215T160000
DTEND;TZID=America/Chicago:20260215T160000
DTSTAMP:20260422T155637
CREATED:20260102T192642Z
LAST-MODIFIED:20260102T192642Z
UID:7878-1771171200-1771171200@route47pubngrub.com
SUMMARY:Trip Bingo
DESCRIPTION:Win a trip for two valued at $1000 to a sunny destination when you play Trip Bingo on Sundays at 4pm! We play every Sunday from January 4 through April 26 – then the last Sunday of every month through August. We pick up the weekly schedule again on September 6 and go through December 27\, 2026. \nThat’s 38 chances to win throughout 2026!
URL:https://route47pubngrub.com/calendar/trip-bingo-10/2026-02-15/
LOCATION:Route 47 Pub & Grub\, 7820 University Ave NE\, Fridley\, MN\, 55432\, United States
CATEGORIES:Trip Bingo
END:VEVENT
BEGIN:VEVENT
DTSTART;TZID=America/Chicago:20260215T080000
DTEND;TZID=America/Chicago:20260215T120000
DTSTAMP:20260422T155637
CREATED:20260203T232835Z
LAST-MODIFIED:20260203T232835Z
UID:8045-1771142400-1771156800@route47pubngrub.com
SUMMARY:ABATE Breakfast
DESCRIPTION:
URL:https://route47pubngrub.com/calendar/abate-breakfast-9/
LOCATION:Route 47 Pub & Grub\, 7820 University Ave NE\, Fridley\, MN\, 55432\, United States
END:VEVENT
BEGIN:VEVENT
DTSTART;TZID=America/Chicago:20260214T200000
DTEND;TZID=America/Chicago:20260214T200000
DTSTAMP:20260422T155637
CREATED:20260121T210428Z
LAST-MODIFIED:20260121T210428Z
UID:7922-1771099200-1771099200@route47pubngrub.com
SUMMARY:Them Pesky Kids
DESCRIPTION:
URL:https://route47pubngrub.com/calendar/them-pesky-kids-8/
LOCATION:Route 47 Pub & Grub\, 7820 University Ave NE\, Fridley\, MN\, 55432\, United States
CATEGORIES:Live Music
END:VEVENT
END:VCALENDAR