BEGIN:VCALENDAR
VERSION:2.0
PRODID:-//Route 47 Pub N Grub - ECPv6.15.20//NONSGML v1.0//EN
CALSCALE:GREGORIAN
METHOD:PUBLISH
X-ORIGINAL-URL:https://route47pubngrub.com
X-WR-CALDESC:Events for Route 47 Pub N Grub
REFRESH-INTERVAL;VALUE=DURATION:PT1H
X-Robots-Tag:noindex
X-PUBLISHED-TTL:PT1H
BEGIN:VTIMEZONE
TZID:America/Chicago
BEGIN:DAYLIGHT
TZOFFSETFROM:-0600
TZOFFSETTO:-0500
TZNAME:CDT
DTSTART:20240310T080000
END:DAYLIGHT
BEGIN:STANDARD
TZOFFSETFROM:-0500
TZOFFSETTO:-0600
TZNAME:CST
DTSTART:20241103T070000
END:STANDARD
BEGIN:DAYLIGHT
TZOFFSETFROM:-0600
TZOFFSETTO:-0500
TZNAME:CDT
DTSTART:20250309T080000
END:DAYLIGHT
BEGIN:STANDARD
TZOFFSETFROM:-0500
TZOFFSETTO:-0600
TZNAME:CST
DTSTART:20251102T070000
END:STANDARD
BEGIN:DAYLIGHT
TZOFFSETFROM:-0600
TZOFFSETTO:-0500
TZNAME:CDT
DTSTART:20260308T080000
END:DAYLIGHT
BEGIN:STANDARD
TZOFFSETFROM:-0500
TZOFFSETTO:-0600
TZNAME:CST
DTSTART:20261101T070000
END:STANDARD
END:VTIMEZONE
BEGIN:VEVENT
DTSTART;TZID=America/Chicago:20250910T190000
DTEND;TZID=America/Chicago:20250910T190000
DTSTAMP:20260423T133841
CREATED:20241113T184057Z
LAST-MODIFIED:20251111T042311Z
UID:7261-1757530800-1757530800@route47pubngrub.com
SUMMARY:Texas Hold 'Em
DESCRIPTION:
URL:https://route47pubngrub.com/calendar/texas-hold-em-50/2025-09-10/
LOCATION:Route 47 Pub & Grub\, 7820 University Ave NE\, Fridley\, MN\, 55432\, United States
CATEGORIES:Poker
END:VEVENT
BEGIN:VEVENT
DTSTART;TZID=America/Chicago:20250909T190000
DTEND;TZID=America/Chicago:20250909T190000
DTSTAMP:20260423T133841
CREATED:20241113T183858Z
LAST-MODIFIED:20241113T183858Z
UID:7312-1757444400-1757444400@route47pubngrub.com
SUMMARY:Texas Hold 'Em
DESCRIPTION:
URL:https://route47pubngrub.com/calendar/texas-hold-em-49/2025-09-09/
LOCATION:Route 47 Pub & Grub\, 7820 University Ave NE\, Fridley\, MN\, 55432\, United States
CATEGORIES:Poker
END:VEVENT
BEGIN:VEVENT
DTSTART;TZID=America/Chicago:20250909T173000
DTEND;TZID=America/Chicago:20250909T173000
DTSTAMP:20260423T133841
CREATED:20241113T184617Z
LAST-MODIFIED:20241113T184617Z
UID:6800-1757439000-1757439000@route47pubngrub.com
SUMMARY:Meat Raffle
DESCRIPTION:
URL:https://route47pubngrub.com/calendar/meat-raffle-42/2025-09-09/
LOCATION:Route 47 Pub & Grub\, 7820 University Ave NE\, Fridley\, MN\, 55432\, United States
CATEGORIES:Meat Raffle
END:VEVENT
BEGIN:VEVENT
DTSTART;TZID=America/Chicago:20250908T191500
DTEND;TZID=America/Chicago:20250908T191500
DTSTAMP:20260423T133841
CREATED:20250820T183801Z
LAST-MODIFIED:20250820T183801Z
UID:7482-1757358900-1757358900@route47pubngrub.com
SUMMARY:Vikings vs Bears
DESCRIPTION:
URL:https://route47pubngrub.com/calendar/vikings-vs-bears/
LOCATION:Route 47 Pub & Grub\, 7820 University Ave NE\, Fridley\, MN\, 55432\, United States
CATEGORIES:Vikings Football
END:VEVENT
BEGIN:VEVENT
DTSTART;TZID=America/Chicago:20250907T160000
DTEND;TZID=America/Chicago:20250907T160000
DTSTAMP:20260423T133841
CREATED:20250627T213126Z
LAST-MODIFIED:20250907T202529Z
UID:7413-1757260800-1757260800@route47pubngrub.com
SUMMARY:BINGO
DESCRIPTION:
URL:https://route47pubngrub.com/calendar/bingo-35-2025-09-07/
LOCATION:Route 47 Pub & Grub\, 7820 University Ave NE\, Fridley\, MN\, 55432\, United States
CATEGORIES:Bingo
END:VEVENT
BEGIN:VEVENT
DTSTART;TZID=America/Chicago:20250907T160000
DTEND;TZID=America/Chicago:20250907T160000
DTSTAMP:20260423T133841
CREATED:20250627T213126Z
LAST-MODIFIED:20250627T213126Z
UID:7649-1757260800-1757260800@route47pubngrub.com
SUMMARY:Bingo
DESCRIPTION:
URL:https://route47pubngrub.com/calendar/bingo-35/2025-09-07/
LOCATION:Route 47 Pub & Grub\, 7820 University Ave NE\, Fridley\, MN\, 55432\, United States
CATEGORIES:Bingo
END:VEVENT
BEGIN:VEVENT
DTSTART;TZID=America/Chicago:20250906T200000
DTEND;TZID=America/Chicago:20250906T200000
DTSTAMP:20260423T133841
CREATED:20250820T183150Z
LAST-MODIFIED:20250820T183150Z
UID:7469-1757188800-1757188800@route47pubngrub.com
SUMMARY:Legacy of the Loud
DESCRIPTION:
URL:https://route47pubngrub.com/calendar/legacy-of-the-loud-5/
LOCATION:Route 47 Pub & Grub\, 7820 University Ave NE\, Fridley\, MN\, 55432\, United States
CATEGORIES:Live Music
END:VEVENT
BEGIN:VEVENT
DTSTART;TZID=America/Chicago:20250906T110000
DTEND;TZID=America/Chicago:20250906T170000
DTSTAMP:20260423T133841
CREATED:20250902T194128Z
LAST-MODIFIED:20250902T194128Z
UID:7504-1757156400-1757178000@route47pubngrub.com
SUMMARY:Fundraiser Bike Run for Joe Spannbauer
DESCRIPTION:
URL:https://route47pubngrub.com/calendar/fundraiser-bike-run-for-joe-spannbauer/
LOCATION:Route 47 Pub & Grub\, 7820 University Ave NE\, Fridley\, MN\, 55432\, United States
CATEGORIES:Benefits
END:VEVENT
BEGIN:VEVENT
DTSTART;TZID=America/Chicago:20250905T200000
DTEND;TZID=America/Chicago:20250905T200000
DTSTAMP:20260423T133841
CREATED:20250820T183059Z
LAST-MODIFIED:20250820T183059Z
UID:7467-1757102400-1757102400@route47pubngrub.com
SUMMARY:DSG
DESCRIPTION:
URL:https://route47pubngrub.com/calendar/dsg-5/
LOCATION:Route 47 Pub & Grub\, 7820 University Ave NE\, Fridley\, MN\, 55432\, United States
CATEGORIES:Live Music
END:VEVENT
BEGIN:VEVENT
DTSTART;TZID=America/Chicago:20250904T190000
DTEND;TZID=America/Chicago:20250904T230000
DTSTAMP:20260423T133841
CREATED:20250627T210757Z
LAST-MODIFIED:20250627T210757Z
UID:7360-1757012400-1757026800@route47pubngrub.com
SUMMARY:Mad Mike's Funhouse
DESCRIPTION:
URL:https://route47pubngrub.com/calendar/mad-mikes-funhouse-11/2025-09-04/
LOCATION:Route 47 Pub & Grub\, 7820 University Ave NE\, Fridley\, MN\, 55432\, United States
CATEGORIES:Live Music,Mad Mike's Funhouse
END:VEVENT
BEGIN:VEVENT
DTSTART;TZID=America/Chicago:20250903T190000
DTEND;TZID=America/Chicago:20250903T190000
DTSTAMP:20260423T133841
CREATED:20241113T184057Z
LAST-MODIFIED:20251111T042311Z
UID:7260-1756926000-1756926000@route47pubngrub.com
SUMMARY:Texas Hold 'Em
DESCRIPTION:
URL:https://route47pubngrub.com/calendar/texas-hold-em-50/2025-09-03/
LOCATION:Route 47 Pub & Grub\, 7820 University Ave NE\, Fridley\, MN\, 55432\, United States
CATEGORIES:Poker
END:VEVENT
BEGIN:VEVENT
DTSTART;TZID=America/Chicago:20250902T190000
DTEND;TZID=America/Chicago:20250902T190000
DTSTAMP:20260423T133841
CREATED:20241113T183858Z
LAST-MODIFIED:20241113T183858Z
UID:7311-1756839600-1756839600@route47pubngrub.com
SUMMARY:Texas Hold 'Em
DESCRIPTION:
URL:https://route47pubngrub.com/calendar/texas-hold-em-49/2025-09-02/
LOCATION:Route 47 Pub & Grub\, 7820 University Ave NE\, Fridley\, MN\, 55432\, United States
CATEGORIES:Poker
END:VEVENT
BEGIN:VEVENT
DTSTART;TZID=America/Chicago:20250902T173000
DTEND;TZID=America/Chicago:20250902T173000
DTSTAMP:20260423T133841
CREATED:20241113T184617Z
LAST-MODIFIED:20241113T184617Z
UID:6799-1756834200-1756834200@route47pubngrub.com
SUMMARY:Meat Raffle
DESCRIPTION:
URL:https://route47pubngrub.com/calendar/meat-raffle-42/2025-09-02/
LOCATION:Route 47 Pub & Grub\, 7820 University Ave NE\, Fridley\, MN\, 55432\, United States
CATEGORIES:Meat Raffle
END:VEVENT
BEGIN:VEVENT
DTSTART;TZID=America/Chicago:20250831T160000
DTEND;TZID=America/Chicago:20250831T160000
DTSTAMP:20260423T133841
CREATED:20250627T213126Z
LAST-MODIFIED:20250922T183645Z
UID:7412-1756656000-1756656000@route47pubngrub.com
SUMMARY:Bingo
DESCRIPTION:
URL:https://route47pubngrub.com/calendar/bingo-35/2025-08-31/
LOCATION:Route 47 Pub & Grub\, 7820 University Ave NE\, Fridley\, MN\, 55432\, United States
CATEGORIES:Bingo
END:VEVENT
BEGIN:VEVENT
DTSTART;TZID=America/Chicago:20250828T190000
DTEND;TZID=America/Chicago:20250828T230000
DTSTAMP:20260423T133841
CREATED:20250627T210757Z
LAST-MODIFIED:20250627T210757Z
UID:7359-1756407600-1756422000@route47pubngrub.com
SUMMARY:Mad Mike's Funhouse
DESCRIPTION:
URL:https://route47pubngrub.com/calendar/mad-mikes-funhouse-11/2025-08-28/
LOCATION:Route 47 Pub & Grub\, 7820 University Ave NE\, Fridley\, MN\, 55432\, United States
CATEGORIES:Live Music,Mad Mike's Funhouse
END:VEVENT
BEGIN:VEVENT
DTSTART;TZID=America/Chicago:20250827T190000
DTEND;TZID=America/Chicago:20250827T190000
DTSTAMP:20260423T133841
CREATED:20241113T184057Z
LAST-MODIFIED:20251111T042311Z
UID:7259-1756321200-1756321200@route47pubngrub.com
SUMMARY:Texas Hold 'Em
DESCRIPTION:
URL:https://route47pubngrub.com/calendar/texas-hold-em-50/2025-08-27/
LOCATION:Route 47 Pub & Grub\, 7820 University Ave NE\, Fridley\, MN\, 55432\, United States
CATEGORIES:Poker
END:VEVENT
BEGIN:VEVENT
DTSTART;TZID=America/Chicago:20250826T190000
DTEND;TZID=America/Chicago:20250826T190000
DTSTAMP:20260423T133841
CREATED:20241113T183858Z
LAST-MODIFIED:20241113T183858Z
UID:7310-1756234800-1756234800@route47pubngrub.com
SUMMARY:Texas Hold 'Em
DESCRIPTION:
URL:https://route47pubngrub.com/calendar/texas-hold-em-49/2025-08-26/
LOCATION:Route 47 Pub & Grub\, 7820 University Ave NE\, Fridley\, MN\, 55432\, United States
CATEGORIES:Poker
END:VEVENT
BEGIN:VEVENT
DTSTART;TZID=America/Chicago:20250826T173000
DTEND;TZID=America/Chicago:20250826T173000
DTSTAMP:20260423T133841
CREATED:20241113T184617Z
LAST-MODIFIED:20241113T184617Z
UID:6798-1756229400-1756229400@route47pubngrub.com
SUMMARY:Meat Raffle
DESCRIPTION:
URL:https://route47pubngrub.com/calendar/meat-raffle-42/2025-08-26/
LOCATION:Route 47 Pub & Grub\, 7820 University Ave NE\, Fridley\, MN\, 55432\, United States
CATEGORIES:Meat Raffle
END:VEVENT
BEGIN:VEVENT
DTSTART;TZID=America/Chicago:20250824T150000
DTEND;TZID=America/Chicago:20250824T150000
DTSTAMP:20260423T133841
CREATED:20250627T212754Z
LAST-MODIFIED:20250627T212754Z
UID:7400-1756047600-1756047600@route47pubngrub.com
SUMMARY:Groovy Tuesday - St Jude's Benefit
DESCRIPTION:
URL:https://route47pubngrub.com/calendar/groovy-tuesday-st-judes-benefit/
LOCATION:Route 47 Pub & Grub\, 7820 University Ave NE\, Fridley\, MN\, 55432\, United States
CATEGORIES:Benefits
END:VEVENT
BEGIN:VEVENT
DTSTART;TZID=America/Chicago:20250823T200000
DTEND;TZID=America/Chicago:20250823T200000
DTSTAMP:20260423T133841
CREATED:20250513T021543Z
LAST-MODIFIED:20250513T021718Z
UID:7200-1755979200-1755979200@route47pubngrub.com
SUMMARY:Them Pesky Kids with Attica
DESCRIPTION:
URL:https://route47pubngrub.com/calendar/them-pesky-kids-with-attica/
LOCATION:Route 47 Pub & Grub\, 7820 University Ave NE\, Fridley\, MN\, 55432\, United States
CATEGORIES:Live Music
END:VEVENT
BEGIN:VEVENT
DTSTART;TZID=America/Chicago:20250823T020000
DTEND;TZID=America/Chicago:20250823T180000
DTSTAMP:20260423T133841
CREATED:20250627T212452Z
LAST-MODIFIED:20250627T212452Z
UID:7392-1755914400-1755972000@route47pubngrub.com
SUMMARY:Rock Camp
DESCRIPTION:
URL:https://route47pubngrub.com/calendar/rock-camp-12/
LOCATION:Route 47 Pub & Grub\, 7820 University Ave NE\, Fridley\, MN\, 55432\, United States
CATEGORIES:Rock Camp
END:VEVENT
BEGIN:VEVENT
DTSTART;TZID=America/Chicago:20250822T200000
DTEND;TZID=America/Chicago:20250822T200000
DTSTAMP:20260423T133841
CREATED:20250627T212411Z
LAST-MODIFIED:20250627T212411Z
UID:7390-1755892800-1755892800@route47pubngrub.com
SUMMARY:Bad Bromance
DESCRIPTION:
URL:https://route47pubngrub.com/calendar/bad-bromance-2/
LOCATION:Route 47 Pub & Grub\, 7820 University Ave NE\, Fridley\, MN\, 55432\, United States
CATEGORIES:Live Music
END:VEVENT
BEGIN:VEVENT
DTSTART;TZID=America/Chicago:20250821T193000
DTEND;TZID=America/Chicago:20250821T193000
DTSTAMP:20260423T133841
CREATED:20241113T183414Z
LAST-MODIFIED:20241113T183414Z
UID:6649-1755804600-1755804600@route47pubngrub.com
SUMMARY:The Supertramps
DESCRIPTION:
URL:https://route47pubngrub.com/calendar/the-supertramps/2025-08-21/
LOCATION:Route 47 Pub & Grub\, 7820 University Ave NE\, Fridley\, MN\, 55432\, United States
CATEGORIES:Live Music
END:VEVENT
BEGIN:VEVENT
DTSTART;TZID=America/Chicago:20250820T190000
DTEND;TZID=America/Chicago:20250820T190000
DTSTAMP:20260423T133841
CREATED:20241113T184057Z
LAST-MODIFIED:20251111T042310Z
UID:7258-1755716400-1755716400@route47pubngrub.com
SUMMARY:Texas Hold 'Em
DESCRIPTION:
URL:https://route47pubngrub.com/calendar/texas-hold-em-50/2025-08-20/
LOCATION:Route 47 Pub & Grub\, 7820 University Ave NE\, Fridley\, MN\, 55432\, United States
CATEGORIES:Poker
END:VEVENT
BEGIN:VEVENT
DTSTART;TZID=America/Chicago:20250819T190000
DTEND;TZID=America/Chicago:20250819T190000
DTSTAMP:20260423T133841
CREATED:20241113T183858Z
LAST-MODIFIED:20241113T183858Z
UID:7309-1755630000-1755630000@route47pubngrub.com
SUMMARY:Texas Hold 'Em
DESCRIPTION:
URL:https://route47pubngrub.com/calendar/texas-hold-em-49/2025-08-19/
LOCATION:Route 47 Pub & Grub\, 7820 University Ave NE\, Fridley\, MN\, 55432\, United States
CATEGORIES:Poker
END:VEVENT
BEGIN:VEVENT
DTSTART;TZID=America/Chicago:20250819T173000
DTEND;TZID=America/Chicago:20250819T173000
DTSTAMP:20260423T133841
CREATED:20241113T184617Z
LAST-MODIFIED:20241113T184617Z
UID:6797-1755624600-1755624600@route47pubngrub.com
SUMMARY:Meat Raffle
DESCRIPTION:
URL:https://route47pubngrub.com/calendar/meat-raffle-42/2025-08-19/
LOCATION:Route 47 Pub & Grub\, 7820 University Ave NE\, Fridley\, MN\, 55432\, United States
CATEGORIES:Meat Raffle
END:VEVENT
BEGIN:VEVENT
DTSTART;TZID=America/Chicago:20250817T200000
DTEND;TZID=America/Chicago:20250817T200000
DTSTAMP:20260423T133841
CREATED:20250627T212709Z
LAST-MODIFIED:20250627T212709Z
UID:7398-1755460800-1755460800@route47pubngrub.com
SUMMARY:Overtime
DESCRIPTION:
URL:https://route47pubngrub.com/calendar/overtime/
LOCATION:Route 47 Pub & Grub\, 7820 University Ave NE\, Fridley\, MN\, 55432\, United States
CATEGORIES:Live Music
END:VEVENT
BEGIN:VEVENT
DTSTART;TZID=America/Chicago:20250817T080000
DTEND;TZID=America/Chicago:20250817T120000
DTSTAMP:20260423T133841
CREATED:20250627T211835Z
LAST-MODIFIED:20250627T211835Z
UID:7382-1755417600-1755432000@route47pubngrub.com
SUMMARY:ABATE Breakfast
DESCRIPTION:
URL:https://route47pubngrub.com/calendar/abate-breakfast-4/
LOCATION:Route 47 Pub & Grub\, 7820 University Ave NE\, Fridley\, MN\, 55432\, United States
CATEGORIES:Breakfast
END:VEVENT
BEGIN:VEVENT
DTSTART;TZID=America/Chicago:20250816T200000
DTEND;TZID=America/Chicago:20250816T200000
DTSTAMP:20260423T133841
CREATED:20250627T205614Z
LAST-MODIFIED:20250627T205614Z
UID:7242-1755374400-1755374400@route47pubngrub.com
SUMMARY:Bad Behavior
DESCRIPTION:
URL:https://route47pubngrub.com/calendar/bad-behavior-6/
LOCATION:Route 47 Pub & Grub\, 7820 University Ave NE\, Fridley\, MN\, 55432\, United States
CATEGORIES:Live Music
END:VEVENT
BEGIN:VEVENT
DTSTART;TZID=America/Chicago:20250815T200000
DTEND;TZID=America/Chicago:20250815T200000
DTSTAMP:20260423T133841
CREATED:20250627T212622Z
LAST-MODIFIED:20250627T212622Z
UID:7396-1755288000-1755288000@route47pubngrub.com
SUMMARY:Mad Mike's Funhouse
DESCRIPTION:
URL:https://route47pubngrub.com/calendar/mad-mikes-funhouse-12/
LOCATION:Route 47 Pub & Grub\, 7820 University Ave NE\, Fridley\, MN\, 55432\, United States
CATEGORIES:Mad Mike's Funhouse
END:VEVENT
END:VCALENDAR