BEGIN:VCALENDAR
VERSION:2.0
PRODID:-//Route 47 Pub N Grub - ECPv6.15.20//NONSGML v1.0//EN
CALSCALE:GREGORIAN
METHOD:PUBLISH
X-WR-CALNAME:Route 47 Pub N Grub
X-ORIGINAL-URL:https://route47pubngrub.com
X-WR-CALDESC:Events for Route 47 Pub N Grub
REFRESH-INTERVAL;VALUE=DURATION:PT1H
X-Robots-Tag:noindex
X-PUBLISHED-TTL:PT1H
BEGIN:VTIMEZONE
TZID:America/Chicago
BEGIN:DAYLIGHT
TZOFFSETFROM:-0600
TZOFFSETTO:-0500
TZNAME:CDT
DTSTART:20250309T080000
END:DAYLIGHT
BEGIN:STANDARD
TZOFFSETFROM:-0500
TZOFFSETTO:-0600
TZNAME:CST
DTSTART:20251102T070000
END:STANDARD
BEGIN:DAYLIGHT
TZOFFSETFROM:-0600
TZOFFSETTO:-0500
TZNAME:CDT
DTSTART:20260308T080000
END:DAYLIGHT
BEGIN:STANDARD
TZOFFSETFROM:-0500
TZOFFSETTO:-0600
TZNAME:CST
DTSTART:20261101T070000
END:STANDARD
BEGIN:DAYLIGHT
TZOFFSETFROM:-0600
TZOFFSETTO:-0500
TZNAME:CDT
DTSTART:20270314T080000
END:DAYLIGHT
BEGIN:STANDARD
TZOFFSETFROM:-0500
TZOFFSETTO:-0600
TZNAME:CST
DTSTART:20271107T070000
END:STANDARD
END:VTIMEZONE
BEGIN:VEVENT
DTSTART;TZID=America/Chicago:20260506T190000
DTEND;TZID=America/Chicago:20260506T190000
DTSTAMP:20260422T095523
CREATED:20251205T181632Z
LAST-MODIFIED:20260403T025635Z
UID:8180-1778094000-1778094000@route47pubngrub.com
SUMMARY:Texas Hold 'Em
DESCRIPTION:
URL:https://route47pubngrub.com/calendar/texas-hold-em-52/2026-05-06/
LOCATION:Route 47 Pub & Grub\, 7820 University Ave NE\, Fridley\, MN\, 55432\, United States
CATEGORIES:Poker
END:VEVENT
BEGIN:VEVENT
DTSTART;TZID=America/Chicago:20260507T190000
DTEND;TZID=America/Chicago:20260507T230000
DTSTAMP:20260422T095523
CREATED:20260121T210917Z
LAST-MODIFIED:20260121T210917Z
UID:8188-1778180400-1778194800@route47pubngrub.com
SUMMARY:Mad Mike's Open Mic
DESCRIPTION:
URL:https://route47pubngrub.com/calendar/mad-mikes-open-mic-32/2026-05-07/
LOCATION:Route 47 Pub & Grub\, 7820 University Ave NE\, Fridley\, MN\, 55432\, United States
CATEGORIES:Live Music,Mad Mike's Funhouse
END:VEVENT
BEGIN:VEVENT
DTSTART;TZID=America/Chicago:20260508T173000
DTEND;TZID=America/Chicago:20260508T173000
DTSTAMP:20260422T095523
CREATED:20260316T160503Z
LAST-MODIFIED:20260316T160503Z
UID:8081-1778261400-1778261400@route47pubngrub.com
SUMMARY:Meat Raffle
DESCRIPTION:
URL:https://route47pubngrub.com/calendar/meat-raffle-44/2026-05-08/
LOCATION:Route 47 Pub & Grub\, 7820 University Ave NE\, Fridley\, MN\, 55432\, United States
CATEGORIES:Meat Raffle
END:VEVENT
BEGIN:VEVENT
DTSTART;TZID=America/Chicago:20260509T200000
DTEND;TZID=America/Chicago:20260509T200000
DTSTAMP:20260422T095523
CREATED:20260326T034034Z
LAST-MODIFIED:20260326T034034Z
UID:8154-1778356800-1778356800@route47pubngrub.com
SUMMARY:Chase & Ovation
DESCRIPTION:
URL:https://route47pubngrub.com/calendar/chase-ovation-3/
LOCATION:Route 47 Pub & Grub\, 7820 University Ave NE\, Fridley\, MN\, 55432\, United States
CATEGORIES:Live Music
END:VEVENT
BEGIN:VEVENT
DTSTART;TZID=America/Chicago:20260511T181500
DTEND;TZID=America/Chicago:20260511T181500
DTSTAMP:20260422T095523
CREATED:20251205T181051Z
LAST-MODIFIED:20260403T025211Z
UID:8087-1778523300-1778523300@route47pubngrub.com
SUMMARY:Bingo
DESCRIPTION:
URL:https://route47pubngrub.com/calendar/bingo-37/2026-05-11/
LOCATION:Route 47 Pub & Grub\, 7820 University Ave NE\, Fridley\, MN\, 55432\, United States
CATEGORIES:Bingo
END:VEVENT
BEGIN:VEVENT
DTSTART;TZID=America/Chicago:20260512T190000
DTEND;TZID=America/Chicago:20260512T190000
DTSTAMP:20260422T095523
CREATED:20251205T181511Z
LAST-MODIFIED:20251205T181511Z
UID:8172-1778612400-1778612400@route47pubngrub.com
SUMMARY:Texas Hold 'Em
DESCRIPTION:
URL:https://route47pubngrub.com/calendar/texas-hold-em-51/2026-05-12/
LOCATION:Route 47 Pub & Grub\, 7820 University Ave NE\, Fridley\, MN\, 55432\, United States
CATEGORIES:Poker
END:VEVENT
BEGIN:VEVENT
DTSTART;TZID=America/Chicago:20260513T190000
DTEND;TZID=America/Chicago:20260513T190000
DTSTAMP:20260422T095523
CREATED:20251205T181632Z
LAST-MODIFIED:20260403T025638Z
UID:8181-1778698800-1778698800@route47pubngrub.com
SUMMARY:Texas Hold 'Em
DESCRIPTION:
URL:https://route47pubngrub.com/calendar/texas-hold-em-52/2026-05-13/
LOCATION:Route 47 Pub & Grub\, 7820 University Ave NE\, Fridley\, MN\, 55432\, United States
CATEGORIES:Poker
END:VEVENT
BEGIN:VEVENT
DTSTART;TZID=America/Chicago:20260514T190000
DTEND;TZID=America/Chicago:20260514T230000
DTSTAMP:20260422T095523
CREATED:20260121T210917Z
LAST-MODIFIED:20260121T210917Z
UID:8189-1778785200-1778799600@route47pubngrub.com
SUMMARY:Mad Mike's Open Mic
DESCRIPTION:
URL:https://route47pubngrub.com/calendar/mad-mikes-open-mic-32/2026-05-14/
LOCATION:Route 47 Pub & Grub\, 7820 University Ave NE\, Fridley\, MN\, 55432\, United States
CATEGORIES:Live Music,Mad Mike's Funhouse
END:VEVENT
BEGIN:VEVENT
DTSTART;TZID=America/Chicago:20260515T173000
DTEND;TZID=America/Chicago:20260515T173000
DTSTAMP:20260422T095523
CREATED:20260316T160503Z
LAST-MODIFIED:20260316T160503Z
UID:8082-1778866200-1778866200@route47pubngrub.com
SUMMARY:Meat Raffle
DESCRIPTION:
URL:https://route47pubngrub.com/calendar/meat-raffle-44/2026-05-15/
LOCATION:Route 47 Pub & Grub\, 7820 University Ave NE\, Fridley\, MN\, 55432\, United States
CATEGORIES:Meat Raffle
END:VEVENT
BEGIN:VEVENT
DTSTART;TZID=America/Chicago:20260518T181500
DTEND;TZID=America/Chicago:20260518T181500
DTSTAMP:20260422T095523
CREATED:20251205T181051Z
LAST-MODIFIED:20260403T025212Z
UID:8088-1779128100-1779128100@route47pubngrub.com
SUMMARY:Bingo
DESCRIPTION:
URL:https://route47pubngrub.com/calendar/bingo-37/2026-05-18/
LOCATION:Route 47 Pub & Grub\, 7820 University Ave NE\, Fridley\, MN\, 55432\, United States
CATEGORIES:Bingo
END:VEVENT
BEGIN:VEVENT
DTSTART;TZID=America/Chicago:20260519T190000
DTEND;TZID=America/Chicago:20260519T190000
DTSTAMP:20260422T095523
CREATED:20251205T181511Z
LAST-MODIFIED:20251205T181511Z
UID:8173-1779217200-1779217200@route47pubngrub.com
SUMMARY:Texas Hold 'Em
DESCRIPTION:
URL:https://route47pubngrub.com/calendar/texas-hold-em-51/2026-05-19/
LOCATION:Route 47 Pub & Grub\, 7820 University Ave NE\, Fridley\, MN\, 55432\, United States
CATEGORIES:Poker
END:VEVENT
BEGIN:VEVENT
DTSTART;TZID=America/Chicago:20260520T190000
DTEND;TZID=America/Chicago:20260520T190000
DTSTAMP:20260422T095523
CREATED:20251205T181632Z
LAST-MODIFIED:20260403T025639Z
UID:8182-1779303600-1779303600@route47pubngrub.com
SUMMARY:Texas Hold 'Em
DESCRIPTION:
URL:https://route47pubngrub.com/calendar/texas-hold-em-52/2026-05-20/
LOCATION:Route 47 Pub & Grub\, 7820 University Ave NE\, Fridley\, MN\, 55432\, United States
CATEGORIES:Poker
END:VEVENT
BEGIN:VEVENT
DTSTART;TZID=America/Chicago:20260521T193000
DTEND;TZID=America/Chicago:20260521T193000
DTSTAMP:20260422T095523
CREATED:20260403T024121Z
LAST-MODIFIED:20260403T024121Z
UID:8200-1779391800-1779391800@route47pubngrub.com
SUMMARY:Steeling Dan
DESCRIPTION:
URL:https://route47pubngrub.com/calendar/steeling-dan-12/2026-05-21/
LOCATION:Route 47 Pub & Grub\, 7820 University Ave NE\, Fridley\, MN\, 55432\, United States
CATEGORIES:Live Music
END:VEVENT
BEGIN:VEVENT
DTSTART;TZID=America/Chicago:20260522T173000
DTEND;TZID=America/Chicago:20260522T173000
DTSTAMP:20260422T095523
CREATED:20260316T160503Z
LAST-MODIFIED:20260316T160503Z
UID:8084-1779471000-1779471000@route47pubngrub.com
SUMMARY:Meat Raffle
DESCRIPTION:
URL:https://route47pubngrub.com/calendar/meat-raffle-44/2026-05-22/
LOCATION:Route 47 Pub & Grub\, 7820 University Ave NE\, Fridley\, MN\, 55432\, United States
CATEGORIES:Meat Raffle
END:VEVENT
BEGIN:VEVENT
DTSTART;TZID=America/Chicago:20260525T181500
DTEND;TZID=America/Chicago:20260525T181500
DTSTAMP:20260422T095523
CREATED:20251205T181051Z
LAST-MODIFIED:20260403T025214Z
UID:8089-1779732900-1779732900@route47pubngrub.com
SUMMARY:Bingo
DESCRIPTION:
URL:https://route47pubngrub.com/calendar/bingo-37/2026-05-25/
LOCATION:Route 47 Pub & Grub\, 7820 University Ave NE\, Fridley\, MN\, 55432\, United States
CATEGORIES:Bingo
END:VEVENT
BEGIN:VEVENT
DTSTART;TZID=America/Chicago:20260526T190000
DTEND;TZID=America/Chicago:20260526T190000
DTSTAMP:20260422T095523
CREATED:20251205T181511Z
LAST-MODIFIED:20251205T181511Z
UID:8174-1779822000-1779822000@route47pubngrub.com
SUMMARY:Texas Hold 'Em
DESCRIPTION:
URL:https://route47pubngrub.com/calendar/texas-hold-em-51/2026-05-26/
LOCATION:Route 47 Pub & Grub\, 7820 University Ave NE\, Fridley\, MN\, 55432\, United States
CATEGORIES:Poker
END:VEVENT
BEGIN:VEVENT
DTSTART;TZID=America/Chicago:20260527T190000
DTEND;TZID=America/Chicago:20260527T190000
DTSTAMP:20260422T095523
CREATED:20251205T181632Z
LAST-MODIFIED:20260403T025640Z
UID:8183-1779908400-1779908400@route47pubngrub.com
SUMMARY:Texas Hold 'Em
DESCRIPTION:
URL:https://route47pubngrub.com/calendar/texas-hold-em-52/2026-05-27/
LOCATION:Route 47 Pub & Grub\, 7820 University Ave NE\, Fridley\, MN\, 55432\, United States
CATEGORIES:Poker
END:VEVENT
BEGIN:VEVENT
DTSTART;TZID=America/Chicago:20260528T190000
DTEND;TZID=America/Chicago:20260528T230000
DTSTAMP:20260422T095523
CREATED:20260121T210917Z
LAST-MODIFIED:20260121T210917Z
UID:8190-1779994800-1780009200@route47pubngrub.com
SUMMARY:Mad Mike's Open Mic
DESCRIPTION:
URL:https://route47pubngrub.com/calendar/mad-mikes-open-mic-32/2026-05-28/
LOCATION:Route 47 Pub & Grub\, 7820 University Ave NE\, Fridley\, MN\, 55432\, United States
CATEGORIES:Live Music,Mad Mike's Funhouse
END:VEVENT
BEGIN:VEVENT
DTSTART;TZID=America/Chicago:20260529T173000
DTEND;TZID=America/Chicago:20260529T173000
DTSTAMP:20260422T095523
CREATED:20260316T160503Z
LAST-MODIFIED:20260316T160503Z
UID:8085-1780075800-1780075800@route47pubngrub.com
SUMMARY:Meat Raffle
DESCRIPTION:
URL:https://route47pubngrub.com/calendar/meat-raffle-44/2026-05-29/
LOCATION:Route 47 Pub & Grub\, 7820 University Ave NE\, Fridley\, MN\, 55432\, United States
CATEGORIES:Meat Raffle
END:VEVENT
BEGIN:VEVENT
DTSTART;TZID=America/Chicago:20260601T181500
DTEND;TZID=America/Chicago:20260601T181500
DTSTAMP:20260422T095523
CREATED:20251205T181051Z
LAST-MODIFIED:20260403T025218Z
UID:8210-1780337700-1780337700@route47pubngrub.com
SUMMARY:Bingo
DESCRIPTION:
URL:https://route47pubngrub.com/calendar/bingo-37/2026-06-01/
LOCATION:Route 47 Pub & Grub\, 7820 University Ave NE\, Fridley\, MN\, 55432\, United States
CATEGORIES:Bingo
END:VEVENT
BEGIN:VEVENT
DTSTART;TZID=America/Chicago:20260602T190000
DTEND;TZID=America/Chicago:20260602T190000
DTSTAMP:20260422T095523
CREATED:20251205T181511Z
LAST-MODIFIED:20251205T181511Z
UID:8257-1780426800-1780426800@route47pubngrub.com
SUMMARY:Texas Hold 'Em
DESCRIPTION:
URL:https://route47pubngrub.com/calendar/texas-hold-em-51/2026-06-02/
LOCATION:Route 47 Pub & Grub\, 7820 University Ave NE\, Fridley\, MN\, 55432\, United States
CATEGORIES:Poker
END:VEVENT
BEGIN:VEVENT
DTSTART;TZID=America/Chicago:20260603T190000
DTEND;TZID=America/Chicago:20260603T190000
DTSTAMP:20260422T095523
CREATED:20251205T181632Z
LAST-MODIFIED:20251205T181632Z
UID:8267-1780513200-1780513200@route47pubngrub.com
SUMMARY:Texas Hold 'Em
DESCRIPTION:
URL:https://route47pubngrub.com/calendar/texas-hold-em-52/2026-06-03/
LOCATION:Route 47 Pub & Grub\, 7820 University Ave NE\, Fridley\, MN\, 55432\, United States
CATEGORIES:Poker
END:VEVENT
BEGIN:VEVENT
DTSTART;TZID=America/Chicago:20260604T190000
DTEND;TZID=America/Chicago:20260604T230000
DTSTAMP:20260422T095523
CREATED:20260121T210917Z
LAST-MODIFIED:20260121T210917Z
UID:8191-1780599600-1780614000@route47pubngrub.com
SUMMARY:Mad Mike's Open Mic
DESCRIPTION:
URL:https://route47pubngrub.com/calendar/mad-mikes-open-mic-32/2026-06-04/
LOCATION:Route 47 Pub & Grub\, 7820 University Ave NE\, Fridley\, MN\, 55432\, United States
CATEGORIES:Live Music,Mad Mike's Funhouse
END:VEVENT
BEGIN:VEVENT
DTSTART;TZID=America/Chicago:20260608T181500
DTEND;TZID=America/Chicago:20260608T181500
DTSTAMP:20260422T095523
CREATED:20251205T181051Z
LAST-MODIFIED:20260403T025219Z
UID:8211-1780942500-1780942500@route47pubngrub.com
SUMMARY:Bingo
DESCRIPTION:
URL:https://route47pubngrub.com/calendar/bingo-37/2026-06-08/
LOCATION:Route 47 Pub & Grub\, 7820 University Ave NE\, Fridley\, MN\, 55432\, United States
CATEGORIES:Bingo
END:VEVENT
BEGIN:VEVENT
DTSTART;TZID=America/Chicago:20260609T190000
DTEND;TZID=America/Chicago:20260609T190000
DTSTAMP:20260422T095523
CREATED:20251205T181511Z
LAST-MODIFIED:20251205T181511Z
UID:8258-1781031600-1781031600@route47pubngrub.com
SUMMARY:Texas Hold 'Em
DESCRIPTION:
URL:https://route47pubngrub.com/calendar/texas-hold-em-51/2026-06-09/
LOCATION:Route 47 Pub & Grub\, 7820 University Ave NE\, Fridley\, MN\, 55432\, United States
CATEGORIES:Poker
END:VEVENT
BEGIN:VEVENT
DTSTART;TZID=America/Chicago:20260610T190000
DTEND;TZID=America/Chicago:20260610T190000
DTSTAMP:20260422T095523
CREATED:20251205T181632Z
LAST-MODIFIED:20251205T181632Z
UID:8268-1781118000-1781118000@route47pubngrub.com
SUMMARY:Texas Hold 'Em
DESCRIPTION:
URL:https://route47pubngrub.com/calendar/texas-hold-em-52/2026-06-10/
LOCATION:Route 47 Pub & Grub\, 7820 University Ave NE\, Fridley\, MN\, 55432\, United States
CATEGORIES:Poker
END:VEVENT
BEGIN:VEVENT
DTSTART;TZID=America/Chicago:20260611T190000
DTEND;TZID=America/Chicago:20260611T230000
DTSTAMP:20260422T095523
CREATED:20260121T210917Z
LAST-MODIFIED:20260121T210917Z
UID:8192-1781204400-1781218800@route47pubngrub.com
SUMMARY:Mad Mike's Open Mic
DESCRIPTION:
URL:https://route47pubngrub.com/calendar/mad-mikes-open-mic-32/2026-06-11/
LOCATION:Route 47 Pub & Grub\, 7820 University Ave NE\, Fridley\, MN\, 55432\, United States
CATEGORIES:Live Music,Mad Mike's Funhouse
END:VEVENT
BEGIN:VEVENT
DTSTART;TZID=America/Chicago:20260615T181500
DTEND;TZID=America/Chicago:20260615T181500
DTSTAMP:20260422T095523
CREATED:20251205T181051Z
LAST-MODIFIED:20260403T025221Z
UID:8212-1781547300-1781547300@route47pubngrub.com
SUMMARY:Bingo
DESCRIPTION:
URL:https://route47pubngrub.com/calendar/bingo-37/2026-06-15/
LOCATION:Route 47 Pub & Grub\, 7820 University Ave NE\, Fridley\, MN\, 55432\, United States
CATEGORIES:Bingo
END:VEVENT
BEGIN:VEVENT
DTSTART;TZID=America/Chicago:20260616T190000
DTEND;TZID=America/Chicago:20260616T190000
DTSTAMP:20260422T095523
CREATED:20251205T181511Z
LAST-MODIFIED:20251205T181511Z
UID:8259-1781636400-1781636400@route47pubngrub.com
SUMMARY:Texas Hold 'Em
DESCRIPTION:
URL:https://route47pubngrub.com/calendar/texas-hold-em-51/2026-06-16/
LOCATION:Route 47 Pub & Grub\, 7820 University Ave NE\, Fridley\, MN\, 55432\, United States
CATEGORIES:Poker
END:VEVENT
BEGIN:VEVENT
DTSTART;TZID=America/Chicago:20260617T190000
DTEND;TZID=America/Chicago:20260617T190000
DTSTAMP:20260422T095523
CREATED:20251205T181632Z
LAST-MODIFIED:20251205T181632Z
UID:8269-1781722800-1781722800@route47pubngrub.com
SUMMARY:Texas Hold 'Em
DESCRIPTION:
URL:https://route47pubngrub.com/calendar/texas-hold-em-52/2026-06-17/
LOCATION:Route 47 Pub & Grub\, 7820 University Ave NE\, Fridley\, MN\, 55432\, United States
CATEGORIES:Poker
END:VEVENT
END:VCALENDAR