BEGIN:VCALENDAR
VERSION:2.0
PRODID:-//Route 47 Pub N Grub - ECPv6.15.20//NONSGML v1.0//EN
CALSCALE:GREGORIAN
METHOD:PUBLISH
X-ORIGINAL-URL:https://route47pubngrub.com
X-WR-CALDESC:Events for Route 47 Pub N Grub
REFRESH-INTERVAL;VALUE=DURATION:PT1H
X-Robots-Tag:noindex
X-PUBLISHED-TTL:PT1H
BEGIN:VTIMEZONE
TZID:America/Chicago
BEGIN:DAYLIGHT
TZOFFSETFROM:-0600
TZOFFSETTO:-0500
TZNAME:CDT
DTSTART:20240310T080000
END:DAYLIGHT
BEGIN:STANDARD
TZOFFSETFROM:-0500
TZOFFSETTO:-0600
TZNAME:CST
DTSTART:20241103T070000
END:STANDARD
BEGIN:DAYLIGHT
TZOFFSETFROM:-0600
TZOFFSETTO:-0500
TZNAME:CDT
DTSTART:20250309T080000
END:DAYLIGHT
BEGIN:STANDARD
TZOFFSETFROM:-0500
TZOFFSETTO:-0600
TZNAME:CST
DTSTART:20251102T070000
END:STANDARD
BEGIN:DAYLIGHT
TZOFFSETFROM:-0600
TZOFFSETTO:-0500
TZNAME:CDT
DTSTART:20260308T080000
END:DAYLIGHT
BEGIN:STANDARD
TZOFFSETFROM:-0500
TZOFFSETTO:-0600
TZNAME:CST
DTSTART:20261101T070000
END:STANDARD
END:VTIMEZONE
BEGIN:VEVENT
DTSTART;TZID=America/Chicago:20251214T192000
DTEND;TZID=America/Chicago:20251214T192000
DTSTAMP:20260423T021301
CREATED:20251111T043228Z
LAST-MODIFIED:20251111T043228Z
UID:7760-1765740000-1765740000@route47pubngrub.com
SUMMARY:Vikings vs Cowboys
DESCRIPTION:
URL:https://route47pubngrub.com/calendar/vikings-vs-cowboys/
LOCATION:Route 47 Pub & Grub\, 7820 University Ave NE\, Fridley\, MN\, 55432\, United States
CATEGORIES:Vikings Football
END:VEVENT
BEGIN:VEVENT
DTSTART;TZID=America/Chicago:20251214T160000
DTEND;TZID=America/Chicago:20251214T160000
DTSTAMP:20260423T021301
CREATED:20250627T213126Z
LAST-MODIFIED:20250627T213126Z
UID:7428-1765728000-1765728000@route47pubngrub.com
SUMMARY:Bingo
DESCRIPTION:
URL:https://route47pubngrub.com/calendar/bingo-35/2025-12-14/
LOCATION:Route 47 Pub & Grub\, 7820 University Ave NE\, Fridley\, MN\, 55432\, United States
CATEGORIES:Bingo
END:VEVENT
BEGIN:VEVENT
DTSTART;TZID=America/Chicago:20251213T200000
DTEND;TZID=America/Chicago:20251213T200000
DTSTAMP:20260423T021301
CREATED:20251111T042022Z
LAST-MODIFIED:20251111T042022Z
UID:7713-1765656000-1765656000@route47pubngrub.com
SUMMARY:Stone Daisy
DESCRIPTION:
URL:https://route47pubngrub.com/calendar/stone-daisy/
LOCATION:Route 47 Pub & Grub\, 7820 University Ave NE\, Fridley\, MN\, 55432\, United States
CATEGORIES:Live Music
END:VEVENT
BEGIN:VEVENT
DTSTART;TZID=America/Chicago:20251212T200000
DTEND;TZID=America/Chicago:20251212T200000
DTSTAMP:20260423T021301
CREATED:20251111T042748Z
LAST-MODIFIED:20251111T042748Z
UID:7750-1765569600-1765569600@route47pubngrub.com
SUMMARY:Legacy of the Loud
DESCRIPTION:
URL:https://route47pubngrub.com/calendar/legacy-of-the-loud-6/
LOCATION:Route 47 Pub & Grub\, 7820 University Ave NE\, Fridley\, MN\, 55432\, United States
CATEGORIES:Live Music
END:VEVENT
BEGIN:VEVENT
DTSTART;TZID=America/Chicago:20251211T190000
DTEND;TZID=America/Chicago:20251211T230000
DTSTAMP:20260423T021301
CREATED:20251111T042608Z
LAST-MODIFIED:20251111T042608Z
UID:7746-1765479600-1765494000@route47pubngrub.com
SUMMARY:Mad Mike's Funhouse
DESCRIPTION:
URL:https://route47pubngrub.com/calendar/mad-mikes-funhouse-16/2025-12-11/
LOCATION:Route 47 Pub & Grub\, 7820 University Ave NE\, Fridley\, MN\, 55432\, United States
CATEGORIES:Live Music
END:VEVENT
BEGIN:VEVENT
DTSTART;TZID=America/Chicago:20251210T190000
DTEND;TZID=America/Chicago:20251210T190000
DTSTAMP:20260423T021301
CREATED:20241113T184057Z
LAST-MODIFIED:20251111T042315Z
UID:7274-1765393200-1765393200@route47pubngrub.com
SUMMARY:Texas Hold 'Em
DESCRIPTION:
URL:https://route47pubngrub.com/calendar/texas-hold-em-50/2025-12-10/
LOCATION:Route 47 Pub & Grub\, 7820 University Ave NE\, Fridley\, MN\, 55432\, United States
CATEGORIES:Poker
END:VEVENT
BEGIN:VEVENT
DTSTART;TZID=America/Chicago:20251209T190000
DTEND;TZID=America/Chicago:20251209T190000
DTSTAMP:20260423T021301
CREATED:20241113T183858Z
LAST-MODIFIED:20241113T183858Z
UID:7325-1765306800-1765306800@route47pubngrub.com
SUMMARY:Texas Hold 'Em
DESCRIPTION:
URL:https://route47pubngrub.com/calendar/texas-hold-em-49/2025-12-09/
LOCATION:Route 47 Pub & Grub\, 7820 University Ave NE\, Fridley\, MN\, 55432\, United States
CATEGORIES:Poker
END:VEVENT
BEGIN:VEVENT
DTSTART;TZID=America/Chicago:20251209T173000
DTEND;TZID=America/Chicago:20251209T173000
DTSTAMP:20260423T021301
CREATED:20241113T184617Z
LAST-MODIFIED:20241113T184617Z
UID:6813-1765301400-1765301400@route47pubngrub.com
SUMMARY:Meat Raffle
DESCRIPTION:
URL:https://route47pubngrub.com/calendar/meat-raffle-42/2025-12-09/
LOCATION:Route 47 Pub & Grub\, 7820 University Ave NE\, Fridley\, MN\, 55432\, United States
CATEGORIES:Meat Raffle
END:VEVENT
BEGIN:VEVENT
DTSTART;TZID=America/Chicago:20251208T181500
DTEND;TZID=America/Chicago:20251208T181500
DTSTAMP:20260423T021301
CREATED:20241113T184242Z
LAST-MODIFIED:20250907T202837Z
UID:7497-1765217700-1765217700@route47pubngrub.com
SUMMARY:BINGO
DESCRIPTION:
URL:https://route47pubngrub.com/calendar/bingo-31/2025-12-08/
LOCATION:Route 47 Pub & Grub\, 7820 University Ave NE\, Fridley\, MN\, 55432\, United States
CATEGORIES:Bingo
END:VEVENT
BEGIN:VEVENT
DTSTART;TZID=America/Chicago:20251207T160000
DTEND;TZID=America/Chicago:20251207T160000
DTSTAMP:20260423T021301
CREATED:20250627T213126Z
LAST-MODIFIED:20250627T213126Z
UID:7427-1765123200-1765123200@route47pubngrub.com
SUMMARY:Bingo
DESCRIPTION:
URL:https://route47pubngrub.com/calendar/bingo-35/2025-12-07/
LOCATION:Route 47 Pub & Grub\, 7820 University Ave NE\, Fridley\, MN\, 55432\, United States
CATEGORIES:Bingo
END:VEVENT
BEGIN:VEVENT
DTSTART;TZID=America/Chicago:20251207T120000
DTEND;TZID=America/Chicago:20251207T120000
DTSTAMP:20260423T021301
CREATED:20251111T043148Z
LAST-MODIFIED:20251111T043148Z
UID:7758-1765108800-1765108800@route47pubngrub.com
SUMMARY:Vikings vs Commanders
DESCRIPTION:
URL:https://route47pubngrub.com/calendar/vikings-vs-commanders/
LOCATION:Route 47 Pub & Grub\, 7820 University Ave NE\, Fridley\, MN\, 55432\, United States
CATEGORIES:Vikings Football
END:VEVENT
BEGIN:VEVENT
DTSTART;TZID=America/Chicago:20251206T200000
DTEND;TZID=America/Chicago:20251206T200000
DTSTAMP:20260423T021301
CREATED:20251111T041939Z
LAST-MODIFIED:20251111T041939Z
UID:7711-1765051200-1765051200@route47pubngrub.com
SUMMARY:10\,000 Days
DESCRIPTION:
URL:https://route47pubngrub.com/calendar/10000-days-2/
LOCATION:Route 47 Pub & Grub\, 7820 University Ave NE\, Fridley\, MN\, 55432\, United States
CATEGORIES:Live Music
END:VEVENT
BEGIN:VEVENT
DTSTART;TZID=America/Chicago:20251205T200000
DTEND;TZID=America/Chicago:20251205T200000
DTSTAMP:20260423T021301
CREATED:20251111T042659Z
LAST-MODIFIED:20251111T042659Z
UID:7748-1764964800-1764964800@route47pubngrub.com
SUMMARY:Menace
DESCRIPTION:
URL:https://route47pubngrub.com/calendar/menace-8/
LOCATION:Route 47 Pub & Grub\, 7820 University Ave NE\, Fridley\, MN\, 55432\, United States
CATEGORIES:Live Music
END:VEVENT
BEGIN:VEVENT
DTSTART;TZID=America/Chicago:20251204T190000
DTEND;TZID=America/Chicago:20251204T230000
DTSTAMP:20260423T021301
CREATED:20251111T042608Z
LAST-MODIFIED:20251111T042608Z
UID:7745-1764874800-1764889200@route47pubngrub.com
SUMMARY:Mad Mike's Funhouse
DESCRIPTION:
URL:https://route47pubngrub.com/calendar/mad-mikes-funhouse-16/2025-12-04/
LOCATION:Route 47 Pub & Grub\, 7820 University Ave NE\, Fridley\, MN\, 55432\, United States
CATEGORIES:Live Music
END:VEVENT
BEGIN:VEVENT
DTSTART;TZID=America/Chicago:20251203T190000
DTEND;TZID=America/Chicago:20251203T190000
DTSTAMP:20260423T021301
CREATED:20241113T184057Z
LAST-MODIFIED:20251111T042315Z
UID:7273-1764788400-1764788400@route47pubngrub.com
SUMMARY:Texas Hold 'Em
DESCRIPTION:
URL:https://route47pubngrub.com/calendar/texas-hold-em-50/2025-12-03/
LOCATION:Route 47 Pub & Grub\, 7820 University Ave NE\, Fridley\, MN\, 55432\, United States
CATEGORIES:Poker
END:VEVENT
BEGIN:VEVENT
DTSTART;TZID=America/Chicago:20251202T190000
DTEND;TZID=America/Chicago:20251202T190000
DTSTAMP:20260423T021301
CREATED:20241113T183858Z
LAST-MODIFIED:20241113T183858Z
UID:7324-1764702000-1764702000@route47pubngrub.com
SUMMARY:Texas Hold 'Em
DESCRIPTION:
URL:https://route47pubngrub.com/calendar/texas-hold-em-49/2025-12-02/
LOCATION:Route 47 Pub & Grub\, 7820 University Ave NE\, Fridley\, MN\, 55432\, United States
CATEGORIES:Poker
END:VEVENT
BEGIN:VEVENT
DTSTART;TZID=America/Chicago:20251202T173000
DTEND;TZID=America/Chicago:20251202T173000
DTSTAMP:20260423T021301
CREATED:20241113T184617Z
LAST-MODIFIED:20241113T184617Z
UID:6812-1764696600-1764696600@route47pubngrub.com
SUMMARY:Meat Raffle
DESCRIPTION:
URL:https://route47pubngrub.com/calendar/meat-raffle-42/2025-12-02/
LOCATION:Route 47 Pub & Grub\, 7820 University Ave NE\, Fridley\, MN\, 55432\, United States
CATEGORIES:Meat Raffle
END:VEVENT
BEGIN:VEVENT
DTSTART;TZID=America/Chicago:20251201T181500
DTEND;TZID=America/Chicago:20251201T181500
DTSTAMP:20260423T021301
CREATED:20241113T184242Z
LAST-MODIFIED:20250907T202837Z
UID:7496-1764612900-1764612900@route47pubngrub.com
SUMMARY:BINGO
DESCRIPTION:
URL:https://route47pubngrub.com/calendar/bingo-31/2025-12-01/
LOCATION:Route 47 Pub & Grub\, 7820 University Ave NE\, Fridley\, MN\, 55432\, United States
CATEGORIES:Bingo
END:VEVENT
BEGIN:VEVENT
DTSTART;TZID=America/Chicago:20251130T160000
DTEND;TZID=America/Chicago:20251130T160000
DTSTAMP:20260423T021301
CREATED:20250627T213126Z
LAST-MODIFIED:20250627T213126Z
UID:7426-1764518400-1764518400@route47pubngrub.com
SUMMARY:Bingo
DESCRIPTION:
URL:https://route47pubngrub.com/calendar/bingo-35/2025-11-30/
LOCATION:Route 47 Pub & Grub\, 7820 University Ave NE\, Fridley\, MN\, 55432\, United States
CATEGORIES:Bingo
END:VEVENT
BEGIN:VEVENT
DTSTART;TZID=America/Chicago:20251130T150500
DTEND;TZID=America/Chicago:20251130T150500
DTSTAMP:20260423T021301
CREATED:20251129T225736Z
LAST-MODIFIED:20251129T225809Z
UID:7767-1764515100-1764515100@route47pubngrub.com
SUMMARY:Vikings vs Seahawks
DESCRIPTION:
URL:https://route47pubngrub.com/calendar/vikings-vs-seahawks/
LOCATION:Route 47 Pub & Grub\, 7820 University Ave NE\, Fridley\, MN\, 55432\, United States
CATEGORIES:Vikings Football
END:VEVENT
BEGIN:VEVENT
DTSTART;TZID=America/Chicago:20251129T200000
DTEND;TZID=America/Chicago:20251129T200000
DTSTAMP:20260423T021301
CREATED:20251020T151505Z
LAST-MODIFIED:20251020T151505Z
UID:7691-1764446400-1764446400@route47pubngrub.com
SUMMARY:Weekend Rockstar
DESCRIPTION:
URL:https://route47pubngrub.com/calendar/weekend-rockstar-3/
LOCATION:Route 47 Pub & Grub\, 7820 University Ave NE\, Fridley\, MN\, 55432\, United States
CATEGORIES:Live Music
END:VEVENT
BEGIN:VEVENT
DTSTART;TZID=America/Chicago:20251128T200000
DTEND;TZID=America/Chicago:20251128T200000
DTSTAMP:20260423T021301
CREATED:20251020T151427Z
LAST-MODIFIED:20251020T151427Z
UID:7689-1764360000-1764360000@route47pubngrub.com
SUMMARY:DSG
DESCRIPTION:
URL:https://route47pubngrub.com/calendar/dsg-6/
LOCATION:Route 47 Pub & Grub\, 7820 University Ave NE\, Fridley\, MN\, 55432\, United States
CATEGORIES:Live Music
END:VEVENT
BEGIN:VEVENT
DTSTART;VALUE=DATE:20251127
DTEND;VALUE=DATE:20251128
DTSTAMP:20260423T021301
CREATED:20251020T151654Z
LAST-MODIFIED:20251107T041548Z
UID:7693-1764201600-1764287999@route47pubngrub.com
SUMMARY:HAPPY THANKSGIVING
DESCRIPTION:
URL:https://route47pubngrub.com/calendar/mad-mikes-open-mic-29/2025-11-27/
LOCATION:Route 47 Pub & Grub\, 7820 University Ave NE\, Fridley\, MN\, 55432\, United States
CATEGORIES:Holiday
END:VEVENT
BEGIN:VEVENT
DTSTART;TZID=America/Chicago:20251126T200000
DTEND;TZID=America/Chicago:20251126T200000
DTSTAMP:20260423T021301
CREATED:20251107T041345Z
LAST-MODIFIED:20251107T041345Z
UID:7707-1764187200-1764187200@route47pubngrub.com
SUMMARY:Thanksgiving Eve Party
DESCRIPTION:
URL:https://route47pubngrub.com/calendar/thanksgiving-eve-party/
LOCATION:Route 47 Pub & Grub\, 7820 University Ave NE\, Fridley\, MN\, 55432\, United States
CATEGORIES:Live Music
END:VEVENT
BEGIN:VEVENT
DTSTART;TZID=America/Chicago:20251126T190000
DTEND;TZID=America/Chicago:20251126T190000
DTSTAMP:20260423T021301
CREATED:20241113T184057Z
LAST-MODIFIED:20251111T042315Z
UID:7272-1764183600-1764183600@route47pubngrub.com
SUMMARY:Texas Hold 'Em
DESCRIPTION:
URL:https://route47pubngrub.com/calendar/texas-hold-em-50/2025-11-26/
LOCATION:Route 47 Pub & Grub\, 7820 University Ave NE\, Fridley\, MN\, 55432\, United States
CATEGORIES:Poker
END:VEVENT
BEGIN:VEVENT
DTSTART;TZID=America/Chicago:20251125T190000
DTEND;TZID=America/Chicago:20251125T190000
DTSTAMP:20260423T021301
CREATED:20241113T183858Z
LAST-MODIFIED:20241113T183858Z
UID:7323-1764097200-1764097200@route47pubngrub.com
SUMMARY:Texas Hold 'Em
DESCRIPTION:
URL:https://route47pubngrub.com/calendar/texas-hold-em-49/2025-11-25/
LOCATION:Route 47 Pub & Grub\, 7820 University Ave NE\, Fridley\, MN\, 55432\, United States
CATEGORIES:Poker
END:VEVENT
BEGIN:VEVENT
DTSTART;TZID=America/Chicago:20251125T173000
DTEND;TZID=America/Chicago:20251125T173000
DTSTAMP:20260423T021301
CREATED:20241113T184617Z
LAST-MODIFIED:20241113T184617Z
UID:6811-1764091800-1764091800@route47pubngrub.com
SUMMARY:Meat Raffle
DESCRIPTION:
URL:https://route47pubngrub.com/calendar/meat-raffle-42/2025-11-25/
LOCATION:Route 47 Pub & Grub\, 7820 University Ave NE\, Fridley\, MN\, 55432\, United States
CATEGORIES:Meat Raffle
END:VEVENT
BEGIN:VEVENT
DTSTART;TZID=America/Chicago:20251124T181500
DTEND;TZID=America/Chicago:20251124T181500
DTSTAMP:20260423T021301
CREATED:20241113T184242Z
LAST-MODIFIED:20250907T202837Z
UID:7495-1764008100-1764008100@route47pubngrub.com
SUMMARY:BINGO
DESCRIPTION:
URL:https://route47pubngrub.com/calendar/bingo-31/2025-11-24/
LOCATION:Route 47 Pub & Grub\, 7820 University Ave NE\, Fridley\, MN\, 55432\, United States
CATEGORIES:Bingo
END:VEVENT
BEGIN:VEVENT
DTSTART;TZID=America/Chicago:20251123T160000
DTEND;TZID=America/Chicago:20251123T160000
DTSTAMP:20260423T021301
CREATED:20250627T213126Z
LAST-MODIFIED:20250627T213126Z
UID:7425-1763913600-1763913600@route47pubngrub.com
SUMMARY:Bingo
DESCRIPTION:
URL:https://route47pubngrub.com/calendar/bingo-35/2025-11-23/
LOCATION:Route 47 Pub & Grub\, 7820 University Ave NE\, Fridley\, MN\, 55432\, United States
CATEGORIES:Bingo
END:VEVENT
BEGIN:VEVENT
DTSTART;TZID=America/Chicago:20251123T120000
DTEND;TZID=America/Chicago:20251123T120000
DTSTAMP:20260423T021301
CREATED:20251129T225932Z
LAST-MODIFIED:20251129T225932Z
UID:7769-1763899200-1763899200@route47pubngrub.com
SUMMARY:Vikings vs Packers
DESCRIPTION:
URL:https://route47pubngrub.com/calendar/vikings-vs-packers/
LOCATION:Route 47 Pub & Grub\, 7820 University Ave NE\, Fridley\, MN\, 55432\, United States
CATEGORIES:Vikings Football
END:VEVENT
END:VCALENDAR