BEGIN:VCALENDAR
VERSION:2.0
PRODID:-//Route 47 Pub N Grub - ECPv6.15.20//NONSGML v1.0//EN
CALSCALE:GREGORIAN
METHOD:PUBLISH
X-WR-CALNAME:Route 47 Pub N Grub
X-ORIGINAL-URL:https://route47pubngrub.com
X-WR-CALDESC:Events for Route 47 Pub N Grub
REFRESH-INTERVAL;VALUE=DURATION:PT1H
X-Robots-Tag:noindex
X-PUBLISHED-TTL:PT1H
BEGIN:VTIMEZONE
TZID:America/Chicago
BEGIN:DAYLIGHT
TZOFFSETFROM:-0600
TZOFFSETTO:-0500
TZNAME:CDT
DTSTART:20230312T080000
END:DAYLIGHT
BEGIN:STANDARD
TZOFFSETFROM:-0500
TZOFFSETTO:-0600
TZNAME:CST
DTSTART:20231105T070000
END:STANDARD
BEGIN:DAYLIGHT
TZOFFSETFROM:-0600
TZOFFSETTO:-0500
TZNAME:CDT
DTSTART:20240310T080000
END:DAYLIGHT
BEGIN:STANDARD
TZOFFSETFROM:-0500
TZOFFSETTO:-0600
TZNAME:CST
DTSTART:20241103T070000
END:STANDARD
BEGIN:DAYLIGHT
TZOFFSETFROM:-0600
TZOFFSETTO:-0500
TZNAME:CDT
DTSTART:20250309T080000
END:DAYLIGHT
BEGIN:STANDARD
TZOFFSETFROM:-0500
TZOFFSETTO:-0600
TZNAME:CST
DTSTART:20251102T070000
END:STANDARD
END:VTIMEZONE
BEGIN:VEVENT
DTSTART;TZID=America/Chicago:20240827T173000
DTEND;TZID=America/Chicago:20240827T173000
DTSTAMP:20260420T073246
CREATED:20240210T162334Z
LAST-MODIFIED:20240210T162334Z
UID:5856-1724779800-1724779800@route47pubngrub.com
SUMMARY:Meat Raffle
DESCRIPTION:
URL:https://route47pubngrub.com/calendar/meat-raffle-fridley-2/2024-08-27/
LOCATION:Route 47 Pub & Grub\, 7820 University Ave NE\, Fridley\, MN\, 55432\, United States
CATEGORIES:Meat Raffle
END:VEVENT
BEGIN:VEVENT
DTSTART;TZID=America/Chicago:20240820T173000
DTEND;TZID=America/Chicago:20240820T173000
DTSTAMP:20260420T073246
CREATED:20240210T162334Z
LAST-MODIFIED:20240210T162334Z
UID:5855-1724175000-1724175000@route47pubngrub.com
SUMMARY:Meat Raffle
DESCRIPTION:
URL:https://route47pubngrub.com/calendar/meat-raffle-fridley-2/2024-08-20/
LOCATION:Route 47 Pub & Grub\, 7820 University Ave NE\, Fridley\, MN\, 55432\, United States
CATEGORIES:Meat Raffle
END:VEVENT
BEGIN:VEVENT
DTSTART;TZID=America/Chicago:20240813T173000
DTEND;TZID=America/Chicago:20240813T173000
DTSTAMP:20260420T073246
CREATED:20240210T162334Z
LAST-MODIFIED:20240210T162334Z
UID:5854-1723570200-1723570200@route47pubngrub.com
SUMMARY:Meat Raffle
DESCRIPTION:
URL:https://route47pubngrub.com/calendar/meat-raffle-fridley-2/2024-08-13/
LOCATION:Route 47 Pub & Grub\, 7820 University Ave NE\, Fridley\, MN\, 55432\, United States
CATEGORIES:Meat Raffle
END:VEVENT
BEGIN:VEVENT
DTSTART;TZID=America/Chicago:20240806T173000
DTEND;TZID=America/Chicago:20240806T173000
DTSTAMP:20260420T073246
CREATED:20240210T162334Z
LAST-MODIFIED:20240210T162334Z
UID:5853-1722965400-1722965400@route47pubngrub.com
SUMMARY:Meat Raffle
DESCRIPTION:
URL:https://route47pubngrub.com/calendar/meat-raffle-fridley-2/2024-08-06/
LOCATION:Route 47 Pub & Grub\, 7820 University Ave NE\, Fridley\, MN\, 55432\, United States
CATEGORIES:Meat Raffle
END:VEVENT
BEGIN:VEVENT
DTSTART;TZID=America/Chicago:20240730T173000
DTEND;TZID=America/Chicago:20240730T173000
DTSTAMP:20260420T073246
CREATED:20240210T162334Z
LAST-MODIFIED:20240210T162334Z
UID:5852-1722360600-1722360600@route47pubngrub.com
SUMMARY:Meat Raffle
DESCRIPTION:
URL:https://route47pubngrub.com/calendar/meat-raffle-fridley-2/2024-07-30/
LOCATION:Route 47 Pub & Grub\, 7820 University Ave NE\, Fridley\, MN\, 55432\, United States
CATEGORIES:Meat Raffle
END:VEVENT
BEGIN:VEVENT
DTSTART;TZID=America/Chicago:20240723T173000
DTEND;TZID=America/Chicago:20240723T173000
DTSTAMP:20260420T073246
CREATED:20240210T162334Z
LAST-MODIFIED:20240210T162334Z
UID:5851-1721755800-1721755800@route47pubngrub.com
SUMMARY:Meat Raffle
DESCRIPTION:
URL:https://route47pubngrub.com/calendar/meat-raffle-fridley-2/2024-07-23/
LOCATION:Route 47 Pub & Grub\, 7820 University Ave NE\, Fridley\, MN\, 55432\, United States
CATEGORIES:Meat Raffle
END:VEVENT
BEGIN:VEVENT
DTSTART;TZID=America/Chicago:20240716T173000
DTEND;TZID=America/Chicago:20240716T173000
DTSTAMP:20260420T073246
CREATED:20240210T162334Z
LAST-MODIFIED:20240210T162334Z
UID:5850-1721151000-1721151000@route47pubngrub.com
SUMMARY:Meat Raffle
DESCRIPTION:
URL:https://route47pubngrub.com/calendar/meat-raffle-fridley-2/2024-07-16/
LOCATION:Route 47 Pub & Grub\, 7820 University Ave NE\, Fridley\, MN\, 55432\, United States
CATEGORIES:Meat Raffle
END:VEVENT
BEGIN:VEVENT
DTSTART;TZID=America/Chicago:20240709T173000
DTEND;TZID=America/Chicago:20240709T173000
DTSTAMP:20260420T073246
CREATED:20240210T162334Z
LAST-MODIFIED:20240210T162334Z
UID:5849-1720546200-1720546200@route47pubngrub.com
SUMMARY:Meat Raffle
DESCRIPTION:
URL:https://route47pubngrub.com/calendar/meat-raffle-fridley-2/2024-07-09/
LOCATION:Route 47 Pub & Grub\, 7820 University Ave NE\, Fridley\, MN\, 55432\, United States
CATEGORIES:Meat Raffle
END:VEVENT
BEGIN:VEVENT
DTSTART;TZID=America/Chicago:20240702T173000
DTEND;TZID=America/Chicago:20240702T173000
DTSTAMP:20260420T073246
CREATED:20240210T162334Z
LAST-MODIFIED:20240210T162334Z
UID:5848-1719941400-1719941400@route47pubngrub.com
SUMMARY:Meat Raffle
DESCRIPTION:
URL:https://route47pubngrub.com/calendar/meat-raffle-fridley-2/2024-07-02/
LOCATION:Route 47 Pub & Grub\, 7820 University Ave NE\, Fridley\, MN\, 55432\, United States
CATEGORIES:Meat Raffle
END:VEVENT
BEGIN:VEVENT
DTSTART;TZID=America/Chicago:20240625T173000
DTEND;TZID=America/Chicago:20240625T173000
DTSTAMP:20260420T073246
CREATED:20240210T162334Z
LAST-MODIFIED:20240404T141225Z
UID:5847-1719336600-1719336600@route47pubngrub.com
SUMMARY:Meat Raffle
DESCRIPTION:
URL:https://route47pubngrub.com/calendar/meat-raffle-fridley-2/2024-06-25/
LOCATION:Route 47 Pub & Grub\, 7820 University Ave NE\, Fridley\, MN\, 55432\, United States
CATEGORIES:Meat Raffle
END:VEVENT
BEGIN:VEVENT
DTSTART;TZID=America/Chicago:20240618T173000
DTEND;TZID=America/Chicago:20240618T173000
DTSTAMP:20260420T073246
CREATED:20240210T162334Z
LAST-MODIFIED:20240404T141222Z
UID:5846-1718731800-1718731800@route47pubngrub.com
SUMMARY:Meat Raffle
DESCRIPTION:
URL:https://route47pubngrub.com/calendar/meat-raffle-fridley-2/2024-06-18/
LOCATION:Route 47 Pub & Grub\, 7820 University Ave NE\, Fridley\, MN\, 55432\, United States
CATEGORIES:Meat Raffle
END:VEVENT
BEGIN:VEVENT
DTSTART;TZID=America/Chicago:20240611T173000
DTEND;TZID=America/Chicago:20240611T173000
DTSTAMP:20260420T073246
CREATED:20240210T162334Z
LAST-MODIFIED:20240404T141222Z
UID:5551-1718127000-1718127000@route47pubngrub.com
SUMMARY:Meat Raffle
DESCRIPTION:
URL:https://route47pubngrub.com/calendar/meat-raffle-fridley-2/2024-06-11/
LOCATION:Route 47 Pub & Grub\, 7820 University Ave NE\, Fridley\, MN\, 55432\, United States
CATEGORIES:Meat Raffle
END:VEVENT
BEGIN:VEVENT
DTSTART;TZID=America/Chicago:20240604T173000
DTEND;TZID=America/Chicago:20240604T173000
DTSTAMP:20260420T073246
CREATED:20240210T162334Z
LAST-MODIFIED:20240404T141222Z
UID:5550-1717522200-1717522200@route47pubngrub.com
SUMMARY:Meat Raffle
DESCRIPTION:
URL:https://route47pubngrub.com/calendar/meat-raffle-fridley-2/2024-06-04/
LOCATION:Route 47 Pub & Grub\, 7820 University Ave NE\, Fridley\, MN\, 55432\, United States
CATEGORIES:Meat Raffle
END:VEVENT
BEGIN:VEVENT
DTSTART;TZID=America/Chicago:20240528T173000
DTEND;TZID=America/Chicago:20240528T173000
DTSTAMP:20260420T073246
CREATED:20240210T162334Z
LAST-MODIFIED:20240404T141221Z
UID:5549-1716917400-1716917400@route47pubngrub.com
SUMMARY:Meat Raffle
DESCRIPTION:
URL:https://route47pubngrub.com/calendar/meat-raffle-fridley-2/2024-05-28/
LOCATION:Route 47 Pub & Grub\, 7820 University Ave NE\, Fridley\, MN\, 55432\, United States
CATEGORIES:Meat Raffle
END:VEVENT
BEGIN:VEVENT
DTSTART;TZID=America/Chicago:20240521T173000
DTEND;TZID=America/Chicago:20240521T173000
DTSTAMP:20260420T073246
CREATED:20240210T162334Z
LAST-MODIFIED:20240404T141221Z
UID:5548-1716312600-1716312600@route47pubngrub.com
SUMMARY:Meat Raffle
DESCRIPTION:
URL:https://route47pubngrub.com/calendar/meat-raffle-fridley-2/2024-05-21/
LOCATION:Route 47 Pub & Grub\, 7820 University Ave NE\, Fridley\, MN\, 55432\, United States
CATEGORIES:Meat Raffle
END:VEVENT
BEGIN:VEVENT
DTSTART;TZID=America/Chicago:20240514T173000
DTEND;TZID=America/Chicago:20240514T173000
DTSTAMP:20260420T073246
CREATED:20240210T162334Z
LAST-MODIFIED:20240404T141220Z
UID:5547-1715707800-1715707800@route47pubngrub.com
SUMMARY:Meat Raffle
DESCRIPTION:
URL:https://route47pubngrub.com/calendar/meat-raffle-fridley-2/2024-05-14/
LOCATION:Route 47 Pub & Grub\, 7820 University Ave NE\, Fridley\, MN\, 55432\, United States
CATEGORIES:Meat Raffle
END:VEVENT
BEGIN:VEVENT
DTSTART;TZID=America/Chicago:20240507T173000
DTEND;TZID=America/Chicago:20240507T173000
DTSTAMP:20260420T073246
CREATED:20240210T162334Z
LAST-MODIFIED:20240404T141220Z
UID:5546-1715103000-1715103000@route47pubngrub.com
SUMMARY:Meat Raffle
DESCRIPTION:
URL:https://route47pubngrub.com/calendar/meat-raffle-fridley-2/2024-05-07/
LOCATION:Route 47 Pub & Grub\, 7820 University Ave NE\, Fridley\, MN\, 55432\, United States
CATEGORIES:Meat Raffle
END:VEVENT
BEGIN:VEVENT
DTSTART;TZID=America/Chicago:20240430T173000
DTEND;TZID=America/Chicago:20240430T173000
DTSTAMP:20260420T073246
CREATED:20240210T162334Z
LAST-MODIFIED:20240404T141220Z
UID:5545-1714498200-1714498200@route47pubngrub.com
SUMMARY:Meat Raffle
DESCRIPTION:
URL:https://route47pubngrub.com/calendar/meat-raffle-fridley-2/2024-04-30/
LOCATION:Route 47 Pub & Grub\, 7820 University Ave NE\, Fridley\, MN\, 55432\, United States
CATEGORIES:Meat Raffle
END:VEVENT
BEGIN:VEVENT
DTSTART;TZID=America/Chicago:20240423T173000
DTEND;TZID=America/Chicago:20240423T173000
DTSTAMP:20260420T073246
CREATED:20240210T162334Z
LAST-MODIFIED:20240404T141219Z
UID:5544-1713893400-1713893400@route47pubngrub.com
SUMMARY:Meat Raffle
DESCRIPTION:
URL:https://route47pubngrub.com/calendar/meat-raffle-fridley-2/2024-04-23/
LOCATION:Route 47 Pub & Grub\, 7820 University Ave NE\, Fridley\, MN\, 55432\, United States
CATEGORIES:Meat Raffle
END:VEVENT
BEGIN:VEVENT
DTSTART;TZID=America/Chicago:20240402T173000
DTEND;TZID=America/Chicago:20240402T173000
DTSTAMP:20260420T073246
CREATED:20240210T162334Z
LAST-MODIFIED:20240404T141209Z
UID:5541-1712079000-1712079000@route47pubngrub.com
SUMMARY:Meat Raffle
DESCRIPTION:
URL:https://route47pubngrub.com/calendar/meat-raffle-fridley-2/2024-04-02/
LOCATION:Route 47 Pub & Grub\, 7820 University Ave NE\, Fridley\, MN\, 55432\, United States
CATEGORIES:Meat Raffle
END:VEVENT
END:VCALENDAR