BEGIN:VCALENDAR
VERSION:2.0
PRODID:-//Route 47 Pub N Grub - ECPv6.15.20//NONSGML v1.0//EN
CALSCALE:GREGORIAN
METHOD:PUBLISH
X-ORIGINAL-URL:https://route47pubngrub.com
X-WR-CALDESC:Events for Route 47 Pub N Grub
REFRESH-INTERVAL;VALUE=DURATION:PT1H
X-Robots-Tag:noindex
X-PUBLISHED-TTL:PT1H
BEGIN:VTIMEZONE
TZID:America/Chicago
BEGIN:DAYLIGHT
TZOFFSETFROM:-0600
TZOFFSETTO:-0500
TZNAME:CDT
DTSTART:20250309T080000
END:DAYLIGHT
BEGIN:STANDARD
TZOFFSETFROM:-0500
TZOFFSETTO:-0600
TZNAME:CST
DTSTART:20251102T070000
END:STANDARD
BEGIN:DAYLIGHT
TZOFFSETFROM:-0600
TZOFFSETTO:-0500
TZNAME:CDT
DTSTART:20260308T080000
END:DAYLIGHT
BEGIN:STANDARD
TZOFFSETFROM:-0500
TZOFFSETTO:-0600
TZNAME:CST
DTSTART:20261101T070000
END:STANDARD
BEGIN:DAYLIGHT
TZOFFSETFROM:-0600
TZOFFSETTO:-0500
TZNAME:CDT
DTSTART:20270314T080000
END:DAYLIGHT
BEGIN:STANDARD
TZOFFSETFROM:-0500
TZOFFSETTO:-0600
TZNAME:CST
DTSTART:20271107T070000
END:STANDARD
END:VTIMEZONE
BEGIN:VEVENT
DTSTART;TZID=America/Chicago:20260604T190000
DTEND;TZID=America/Chicago:20260604T230000
DTSTAMP:20260422T165547
CREATED:20260121T210917Z
LAST-MODIFIED:20260121T210917Z
UID:8191-1780599600-1780614000@route47pubngrub.com
SUMMARY:Mad Mike's Open Mic
DESCRIPTION:
URL:https://route47pubngrub.com/calendar/mad-mikes-open-mic-32/2026-06-04/
LOCATION:Route 47 Pub & Grub\, 7820 University Ave NE\, Fridley\, MN\, 55432\, United States
CATEGORIES:Live Music,Mad Mike's Funhouse
END:VEVENT
BEGIN:VEVENT
DTSTART;TZID=America/Chicago:20260611T190000
DTEND;TZID=America/Chicago:20260611T230000
DTSTAMP:20260422T165547
CREATED:20260121T210917Z
LAST-MODIFIED:20260121T210917Z
UID:8192-1781204400-1781218800@route47pubngrub.com
SUMMARY:Mad Mike's Open Mic
DESCRIPTION:
URL:https://route47pubngrub.com/calendar/mad-mikes-open-mic-32/2026-06-11/
LOCATION:Route 47 Pub & Grub\, 7820 University Ave NE\, Fridley\, MN\, 55432\, United States
CATEGORIES:Live Music,Mad Mike's Funhouse
END:VEVENT
BEGIN:VEVENT
DTSTART;TZID=America/Chicago:20260618T190000
DTEND;TZID=America/Chicago:20260618T230000
DTSTAMP:20260422T165547
CREATED:20260121T210917Z
LAST-MODIFIED:20260121T210917Z
UID:8193-1781809200-1781823600@route47pubngrub.com
SUMMARY:Mad Mike's Open Mic
DESCRIPTION:
URL:https://route47pubngrub.com/calendar/mad-mikes-open-mic-32/2026-06-18/
LOCATION:Route 47 Pub & Grub\, 7820 University Ave NE\, Fridley\, MN\, 55432\, United States
CATEGORIES:Live Music,Mad Mike's Funhouse
END:VEVENT
BEGIN:VEVENT
DTSTART;TZID=America/Chicago:20260625T190000
DTEND;TZID=America/Chicago:20260625T230000
DTSTAMP:20260422T165547
CREATED:20260121T210917Z
LAST-MODIFIED:20260121T210917Z
UID:8194-1782414000-1782428400@route47pubngrub.com
SUMMARY:Mad Mike's Open Mic
DESCRIPTION:
URL:https://route47pubngrub.com/calendar/mad-mikes-open-mic-32/2026-06-25/
LOCATION:Route 47 Pub & Grub\, 7820 University Ave NE\, Fridley\, MN\, 55432\, United States
CATEGORIES:Live Music,Mad Mike's Funhouse
END:VEVENT
BEGIN:VEVENT
DTSTART;TZID=America/Chicago:20260716T193000
DTEND;TZID=America/Chicago:20260716T193000
DTSTAMP:20260422T165547
CREATED:20260403T024121Z
LAST-MODIFIED:20260403T024121Z
UID:8201-1784230200-1784230200@route47pubngrub.com
SUMMARY:Steeling Dan
DESCRIPTION:
URL:https://route47pubngrub.com/calendar/steeling-dan-12/2026-07-16/
LOCATION:Route 47 Pub & Grub\, 7820 University Ave NE\, Fridley\, MN\, 55432\, United States
CATEGORIES:Live Music
END:VEVENT
BEGIN:VEVENT
DTSTART;TZID=America/Chicago:20260917T193000
DTEND;TZID=America/Chicago:20260917T193000
DTSTAMP:20260422T165547
CREATED:20260403T024121Z
LAST-MODIFIED:20260403T024121Z
UID:8202-1789673400-1789673400@route47pubngrub.com
SUMMARY:Steeling Dan
DESCRIPTION:
URL:https://route47pubngrub.com/calendar/steeling-dan-12/2026-09-17/
LOCATION:Route 47 Pub & Grub\, 7820 University Ave NE\, Fridley\, MN\, 55432\, United States
CATEGORIES:Live Music
END:VEVENT
BEGIN:VEVENT
DTSTART;TZID=America/Chicago:20261119T193000
DTEND;TZID=America/Chicago:20261119T193000
DTSTAMP:20260422T165547
CREATED:20260403T024121Z
LAST-MODIFIED:20260403T024121Z
UID:8203-1795116600-1795116600@route47pubngrub.com
SUMMARY:Steeling Dan
DESCRIPTION:
URL:https://route47pubngrub.com/calendar/steeling-dan-12/2026-11-19/
LOCATION:Route 47 Pub & Grub\, 7820 University Ave NE\, Fridley\, MN\, 55432\, United States
CATEGORIES:Live Music
END:VEVENT
END:VCALENDAR