BEGIN:VCALENDAR
VERSION:2.0
PRODID:-//Route 47 Pub N Grub - ECPv6.15.20//NONSGML v1.0//EN
CALSCALE:GREGORIAN
METHOD:PUBLISH
X-WR-CALNAME:Route 47 Pub N Grub
X-ORIGINAL-URL:https://route47pubngrub.com
X-WR-CALDESC:Events for Route 47 Pub N Grub
REFRESH-INTERVAL;VALUE=DURATION:PT1H
X-Robots-Tag:noindex
X-PUBLISHED-TTL:PT1H
BEGIN:VTIMEZONE
TZID:America/Chicago
BEGIN:DAYLIGHT
TZOFFSETFROM:-0600
TZOFFSETTO:-0500
TZNAME:CDT
DTSTART:20230312T080000
END:DAYLIGHT
BEGIN:STANDARD
TZOFFSETFROM:-0500
TZOFFSETTO:-0600
TZNAME:CST
DTSTART:20231105T070000
END:STANDARD
BEGIN:DAYLIGHT
TZOFFSETFROM:-0600
TZOFFSETTO:-0500
TZNAME:CDT
DTSTART:20240310T080000
END:DAYLIGHT
BEGIN:STANDARD
TZOFFSETFROM:-0500
TZOFFSETTO:-0600
TZNAME:CST
DTSTART:20241103T070000
END:STANDARD
BEGIN:DAYLIGHT
TZOFFSETFROM:-0600
TZOFFSETTO:-0500
TZNAME:CDT
DTSTART:20250309T080000
END:DAYLIGHT
BEGIN:STANDARD
TZOFFSETFROM:-0500
TZOFFSETTO:-0600
TZNAME:CST
DTSTART:20251102T070000
END:STANDARD
BEGIN:DAYLIGHT
TZOFFSETFROM:-0600
TZOFFSETTO:-0500
TZNAME:CDT
DTSTART:20260308T080000
END:DAYLIGHT
BEGIN:STANDARD
TZOFFSETFROM:-0500
TZOFFSETTO:-0600
TZNAME:CST
DTSTART:20261101T070000
END:STANDARD
END:VTIMEZONE
BEGIN:VEVENT
DTSTART;VALUE=DATE:20251225
DTEND;VALUE=DATE:20251226
DTSTAMP:20260423T050958
CREATED:20251111T042430Z
LAST-MODIFIED:20251111T042430Z
UID:7743-1766620800-1766707199@route47pubngrub.com
SUMMARY:MERRY CHRISTMAS!   ***BAR CLOSED***
DESCRIPTION:
URL:https://route47pubngrub.com/calendar/merry-christmas-bar-closed/
LOCATION:Route 47 Pub & Grub\, 7820 University Ave NE\, Fridley\, MN\, 55432\, United States
CATEGORIES:Holiday
END:VEVENT
BEGIN:VEVENT
DTSTART;TZID=America/Chicago:20251224T170000
DTEND;TZID=America/Chicago:20251224T170000
DTSTAMP:20260423T050958
CREATED:20251111T042224Z
LAST-MODIFIED:20251111T042224Z
UID:7719-1766595600-1766595600@route47pubngrub.com
SUMMARY:Christmas Eve - Close at 5pm
DESCRIPTION:
URL:https://route47pubngrub.com/calendar/christmas-eve-close-at-5pm/
LOCATION:Route 47 Pub & Grub\, 7820 University Ave NE\, Fridley\, MN\, 55432\, United States
CATEGORIES:Holiday
END:VEVENT
BEGIN:VEVENT
DTSTART;VALUE=DATE:20251127
DTEND;VALUE=DATE:20251128
DTSTAMP:20260423T050958
CREATED:20251020T151654Z
LAST-MODIFIED:20251107T041548Z
UID:7693-1764201600-1764287999@route47pubngrub.com
SUMMARY:HAPPY THANKSGIVING
DESCRIPTION:
URL:https://route47pubngrub.com/calendar/mad-mikes-open-mic-29/2025-11-27/
LOCATION:Route 47 Pub & Grub\, 7820 University Ave NE\, Fridley\, MN\, 55432\, United States
CATEGORIES:Holiday
END:VEVENT
BEGIN:VEVENT
DTSTART;VALUE=DATE:20250511
DTEND;VALUE=DATE:20250512
DTSTAMP:20260423T050958
CREATED:20250307T162313Z
LAST-MODIFIED:20250307T162313Z
UID:7071-1746921600-1747007999@route47pubngrub.com
SUMMARY:Happy Mothers Day
DESCRIPTION:
URL:https://route47pubngrub.com/calendar/happy-mothers-day/
LOCATION:Route 47 Pub & Grub\, 7820 University Ave NE\, Fridley\, MN\, 55432\, United States
CATEGORIES:Holiday
END:VEVENT
BEGIN:VEVENT
DTSTART;VALUE=DATE:20250420
DTEND;VALUE=DATE:20250421
DTSTAMP:20260423T050958
CREATED:20250307T162514Z
LAST-MODIFIED:20250307T162514Z
UID:7073-1745107200-1745193599@route47pubngrub.com
SUMMARY:Happy Easter
DESCRIPTION:
URL:https://route47pubngrub.com/calendar/happy-easter/
LOCATION:Route 47 Pub & Grub\, 7820 University Ave NE\, Fridley\, MN\, 55432\, United States
CATEGORIES:Holiday
END:VEVENT
BEGIN:VEVENT
DTSTART;VALUE=DATE:20241225
DTEND;VALUE=DATE:20241226
DTSTAMP:20260423T050958
CREATED:20241031T174931Z
LAST-MODIFIED:20241031T174931Z
UID:6484-1735084800-1735171199@route47pubngrub.com
SUMMARY:CLOSED - MERRY CHRISTMAS!
DESCRIPTION:
URL:https://route47pubngrub.com/calendar/closed-merry-christmas/
LOCATION:Route 47 Pub & Grub\, 7820 University Ave NE\, Fridley\, MN\, 55432\, United States
CATEGORIES:Holiday
END:VEVENT
BEGIN:VEVENT
DTSTART;TZID=America/Chicago:20241224T080000
DTEND;TZID=America/Chicago:20241224T180000
DTSTAMP:20260423T050958
CREATED:20241031T175020Z
LAST-MODIFIED:20241031T175020Z
UID:6486-1735027200-1735063200@route47pubngrub.com
SUMMARY:CHRISTMAS EVE - CLOSED at 6PM
DESCRIPTION:
URL:https://route47pubngrub.com/calendar/christmas-eve-closed-at-6pm/
CATEGORIES:Holiday
END:VEVENT
END:VCALENDAR