BEGIN:VCALENDAR
VERSION:2.0
PRODID:-//Route 47 Pub N Grub - ECPv6.15.20//NONSGML v1.0//EN
CALSCALE:GREGORIAN
METHOD:PUBLISH
X-ORIGINAL-URL:https://route47pubngrub.com
X-WR-CALDESC:Events for Route 47 Pub N Grub
REFRESH-INTERVAL;VALUE=DURATION:PT1H
X-Robots-Tag:noindex
X-PUBLISHED-TTL:PT1H
BEGIN:VTIMEZONE
TZID:America/Chicago
BEGIN:DAYLIGHT
TZOFFSETFROM:-0600
TZOFFSETTO:-0500
TZNAME:CDT
DTSTART:20250309T080000
END:DAYLIGHT
BEGIN:STANDARD
TZOFFSETFROM:-0500
TZOFFSETTO:-0600
TZNAME:CST
DTSTART:20251102T070000
END:STANDARD
BEGIN:DAYLIGHT
TZOFFSETFROM:-0600
TZOFFSETTO:-0500
TZNAME:CDT
DTSTART:20260308T080000
END:DAYLIGHT
BEGIN:STANDARD
TZOFFSETFROM:-0500
TZOFFSETTO:-0600
TZNAME:CST
DTSTART:20261101T070000
END:STANDARD
BEGIN:DAYLIGHT
TZOFFSETFROM:-0600
TZOFFSETTO:-0500
TZNAME:CDT
DTSTART:20270314T080000
END:DAYLIGHT
BEGIN:STANDARD
TZOFFSETFROM:-0500
TZOFFSETTO:-0600
TZNAME:CST
DTSTART:20271107T070000
END:STANDARD
END:VTIMEZONE
BEGIN:VEVENT
DTSTART;TZID=America/Chicago:20260104T120000
DTEND;TZID=America/Chicago:20260104T120000
DTSTAMP:20260424T205204
CREATED:20260102T175648Z
LAST-MODIFIED:20260102T175648Z
UID:7858-1767528000-1767528000@route47pubngrub.com
SUMMARY:Vikings vs Packers
DESCRIPTION:
URL:https://route47pubngrub.com/calendar/vikings-vs-packers-2/
LOCATION:Route 47 Pub & Grub\, 7820 University Ave NE\, Fridley\, MN\, 55432\, United States
CATEGORIES:Vikings Football
END:VEVENT
BEGIN:VEVENT
DTSTART;TZID=America/Chicago:20260104T160000
DTEND;TZID=America/Chicago:20260104T160000
DTSTAMP:20260424T205204
CREATED:20260102T192642Z
LAST-MODIFIED:20260102T192642Z
UID:7872-1767542400-1767542400@route47pubngrub.com
SUMMARY:Trip Bingo
DESCRIPTION:Win a trip for two valued at $1000 to a sunny destination when you play Trip Bingo on Sundays at 4pm! We play every Sunday from January 4 through April 26 – then the last Sunday of every month through August. We pick up the weekly schedule again on September 6 and go through December 27\, 2026. \nThat’s 38 chances to win throughout 2026!
URL:https://route47pubngrub.com/calendar/trip-bingo-10/2026-01-04/
LOCATION:Route 47 Pub & Grub\, 7820 University Ave NE\, Fridley\, MN\, 55432\, United States
CATEGORIES:Trip Bingo
END:VEVENT
END:VCALENDAR