BEGIN:VCALENDAR
VERSION:2.0
PRODID:-//Route 47 Pub N Grub - ECPv6.15.20//NONSGML v1.0//EN
CALSCALE:GREGORIAN
METHOD:PUBLISH
X-ORIGINAL-URL:https://route47pubngrub.com
X-WR-CALDESC:Events for Route 47 Pub N Grub
REFRESH-INTERVAL;VALUE=DURATION:PT1H
X-Robots-Tag:noindex
X-PUBLISHED-TTL:PT1H
BEGIN:VTIMEZONE
TZID:America/Chicago
BEGIN:DAYLIGHT
TZOFFSETFROM:-0600
TZOFFSETTO:-0500
TZNAME:CDT
DTSTART:20240310T080000
END:DAYLIGHT
BEGIN:STANDARD
TZOFFSETFROM:-0500
TZOFFSETTO:-0600
TZNAME:CST
DTSTART:20241103T070000
END:STANDARD
BEGIN:DAYLIGHT
TZOFFSETFROM:-0600
TZOFFSETTO:-0500
TZNAME:CDT
DTSTART:20250309T080000
END:DAYLIGHT
BEGIN:STANDARD
TZOFFSETFROM:-0500
TZOFFSETTO:-0600
TZNAME:CST
DTSTART:20251102T070000
END:STANDARD
BEGIN:DAYLIGHT
TZOFFSETFROM:-0600
TZOFFSETTO:-0500
TZNAME:CDT
DTSTART:20260308T080000
END:DAYLIGHT
BEGIN:STANDARD
TZOFFSETFROM:-0500
TZOFFSETTO:-0600
TZNAME:CST
DTSTART:20261101T070000
END:STANDARD
END:VTIMEZONE
BEGIN:VEVENT
DTSTART;TZID=America/Chicago:20250928T083000
DTEND;TZID=America/Chicago:20250928T083000
DTSTAMP:20260424T175709
CREATED:20250820T184100Z
LAST-MODIFIED:20250904T134206Z
UID:7488-1759048200-1759048200@route47pubngrub.com
SUMMARY:Vikings vs Steelers
DESCRIPTION:
URL:https://route47pubngrub.com/calendar/vikings-vs-steelers/
LOCATION:Route 47 Pub & Grub\, 7820 University Ave NE\, Fridley\, MN\, 55432\, United States
CATEGORIES:Vikings Football
END:VEVENT
BEGIN:VEVENT
DTSTART;TZID=America/Chicago:20250928T110000
DTEND;TZID=America/Chicago:20250928T190000
DTSTAMP:20260424T175709
CREATED:20250922T183914Z
LAST-MODIFIED:20250922T183914Z
UID:7658-1759057200-1759086000@route47pubngrub.com
SUMMARY:Joe Spannbauer Benefit
DESCRIPTION:
URL:https://route47pubngrub.com/calendar/joe-spannbauer-benefit/
LOCATION:Route 47 Pub & Grub\, 7820 University Ave NE\, Fridley\, MN\, 55432\, United States
CATEGORIES:Benefits
END:VEVENT
END:VCALENDAR