BEGIN:VCALENDAR
VERSION:2.0
PRODID:-//Route 47 Pub N Grub - ECPv6.15.20//NONSGML v1.0//EN
CALSCALE:GREGORIAN
METHOD:PUBLISH
X-ORIGINAL-URL:https://route47pubngrub.com
X-WR-CALDESC:Events for Route 47 Pub N Grub
REFRESH-INTERVAL;VALUE=DURATION:PT1H
X-Robots-Tag:noindex
X-PUBLISHED-TTL:PT1H
BEGIN:VTIMEZONE
TZID:America/Chicago
BEGIN:DAYLIGHT
TZOFFSETFROM:-0600
TZOFFSETTO:-0500
TZNAME:CDT
DTSTART:20250309T080000
END:DAYLIGHT
BEGIN:STANDARD
TZOFFSETFROM:-0500
TZOFFSETTO:-0600
TZNAME:CST
DTSTART:20251102T070000
END:STANDARD
BEGIN:DAYLIGHT
TZOFFSETFROM:-0600
TZOFFSETTO:-0500
TZNAME:CDT
DTSTART:20260308T080000
END:DAYLIGHT
BEGIN:STANDARD
TZOFFSETFROM:-0500
TZOFFSETTO:-0600
TZNAME:CST
DTSTART:20261101T070000
END:STANDARD
BEGIN:DAYLIGHT
TZOFFSETFROM:-0600
TZOFFSETTO:-0500
TZNAME:CDT
DTSTART:20270314T080000
END:DAYLIGHT
BEGIN:STANDARD
TZOFFSETFROM:-0500
TZOFFSETTO:-0600
TZNAME:CST
DTSTART:20271107T070000
END:STANDARD
END:VTIMEZONE
BEGIN:VEVENT
DTSTART;TZID=America/Chicago:20260424T173000
DTEND;TZID=America/Chicago:20260424T173000
DTSTAMP:20260424T222417
CREATED:20260316T160503Z
LAST-MODIFIED:20260316T160503Z
UID:8079-1777051800-1777051800@route47pubngrub.com
SUMMARY:Meat Raffle
DESCRIPTION:
URL:https://route47pubngrub.com/calendar/meat-raffle-44/2026-04-24/
LOCATION:Route 47 Pub & Grub\, 7820 University Ave NE\, Fridley\, MN\, 55432\, United States
CATEGORIES:Meat Raffle
END:VEVENT
BEGIN:VEVENT
DTSTART;TZID=America/Chicago:20260424T200000
DTEND;TZID=America/Chicago:20260424T200000
DTSTAMP:20260424T222417
CREATED:20260203T230930Z
LAST-MODIFIED:20260203T230930Z
UID:7978-1777060800-1777060800@route47pubngrub.com
SUMMARY:Gen X Jukebox
DESCRIPTION:
URL:https://route47pubngrub.com/calendar/gen-x-jukebox-3/
LOCATION:Route 47 Pub & Grub\, 7820 University Ave NE\, Fridley\, MN\, 55432\, United States
CATEGORIES:Live Music
END:VEVENT
BEGIN:VEVENT
DTSTART;TZID=America/Chicago:20260425T140000
DTEND;TZID=America/Chicago:20260425T180000
DTSTAMP:20260424T222417
CREATED:20260203T231038Z
LAST-MODIFIED:20260203T231038Z
UID:7980-1777125600-1777140000@route47pubngrub.com
SUMMARY:Rock Camp
DESCRIPTION:
URL:https://route47pubngrub.com/calendar/rock-camp-13/
LOCATION:Route 47 Pub & Grub\, 7820 University Ave NE\, Fridley\, MN\, 55432\, United States
CATEGORIES:Live Music
END:VEVENT
BEGIN:VEVENT
DTSTART;TZID=America/Chicago:20260425T200000
DTEND;TZID=America/Chicago:20260425T200000
DTSTAMP:20260424T222417
CREATED:20260306T193129Z
LAST-MODIFIED:20260423T145024Z
UID:8055-1777147200-1777147200@route47pubngrub.com
SUMMARY:Har Mar Superstar
DESCRIPTION:
URL:https://route47pubngrub.com/calendar/har-mar-superstar/
LOCATION:Route 47 Pub & Grub\, 7820 University Ave NE\, Fridley\, MN\, 55432\, United States
CATEGORIES:Live Music
END:VEVENT
BEGIN:VEVENT
DTSTART;TZID=America/Chicago:20260426T160000
DTEND;TZID=America/Chicago:20260426T160000
DTSTAMP:20260424T222417
CREATED:20260102T192642Z
LAST-MODIFIED:20260102T192642Z
UID:7889-1777219200-1777219200@route47pubngrub.com
SUMMARY:Trip Bingo
DESCRIPTION:Win a trip for two valued at $1000 to a sunny destination when you play Trip Bingo on Sundays at 4pm! We play every Sunday from January 4 through April 26 – then the last Sunday of every month through August. We pick up the weekly schedule again on September 6 and go through December 27\, 2026. \nThat’s 38 chances to win throughout 2026!
URL:https://route47pubngrub.com/calendar/trip-bingo-10/2026-04-26/
LOCATION:Route 47 Pub & Grub\, 7820 University Ave NE\, Fridley\, MN\, 55432\, United States
CATEGORIES:Trip Bingo
END:VEVENT
BEGIN:VEVENT
DTSTART;TZID=America/Chicago:20260427T181500
DTEND;TZID=America/Chicago:20260427T181500
DTSTAMP:20260424T222417
CREATED:20251205T181051Z
LAST-MODIFIED:20260403T025209Z
UID:7993-1777313700-1777313700@route47pubngrub.com
SUMMARY:Bingo
DESCRIPTION:
URL:https://route47pubngrub.com/calendar/bingo-37/2026-04-27/
LOCATION:Route 47 Pub & Grub\, 7820 University Ave NE\, Fridley\, MN\, 55432\, United States
CATEGORIES:Bingo
END:VEVENT
BEGIN:VEVENT
DTSTART;TZID=America/Chicago:20260428T173000
DTEND;TZID=America/Chicago:20260428T173000
DTSTAMP:20260424T222417
CREATED:20251205T181258Z
LAST-MODIFIED:20251205T181258Z
UID:8019-1777397400-1777397400@route47pubngrub.com
SUMMARY:Meat Raffle
DESCRIPTION:
URL:https://route47pubngrub.com/calendar/meat-raffle-43/2026-04-28/
LOCATION:Route 47 Pub & Grub\, 7820 University Ave NE\, Fridley\, MN\, 55432\, United States
CATEGORIES:Meat Raffle
END:VEVENT
BEGIN:VEVENT
DTSTART;TZID=America/Chicago:20260428T190000
DTEND;TZID=America/Chicago:20260428T190000
DTSTAMP:20260424T222417
CREATED:20251205T181511Z
LAST-MODIFIED:20260403T023239Z
UID:8009-1777402800-1777402800@route47pubngrub.com
SUMMARY:Texas Hold 'Em
DESCRIPTION:
URL:https://route47pubngrub.com/calendar/texas-hold-em-51/2026-04-28/
LOCATION:Route 47 Pub & Grub\, 7820 University Ave NE\, Fridley\, MN\, 55432\, United States
CATEGORIES:Poker
END:VEVENT
BEGIN:VEVENT
DTSTART;TZID=America/Chicago:20260429T190000
DTEND;TZID=America/Chicago:20260429T190000
DTSTAMP:20260424T222417
CREATED:20251205T181632Z
LAST-MODIFIED:20260403T025634Z
UID:8179-1777489200-1777489200@route47pubngrub.com
SUMMARY:Texas Hold 'Em
DESCRIPTION:
URL:https://route47pubngrub.com/calendar/texas-hold-em-52/2026-04-29/
LOCATION:Route 47 Pub & Grub\, 7820 University Ave NE\, Fridley\, MN\, 55432\, United States
CATEGORIES:Poker
END:VEVENT
BEGIN:VEVENT
DTSTART;TZID=America/Chicago:20260430T190000
DTEND;TZID=America/Chicago:20260430T230000
DTSTAMP:20260424T222417
CREATED:20260121T210917Z
LAST-MODIFIED:20260403T023723Z
UID:7949-1777575600-1777590000@route47pubngrub.com
SUMMARY:Mad Mike's Open Mic
DESCRIPTION:
URL:https://route47pubngrub.com/calendar/mad-mikes-open-mic-32/2026-04-30/
LOCATION:Route 47 Pub & Grub\, 7820 University Ave NE\, Fridley\, MN\, 55432\, United States
CATEGORIES:Live Music,Mad Mike's Funhouse
END:VEVENT
END:VCALENDAR